BEGIN:VCALENDAR
VERSION:2.0
PRODID:-//First Lutheran Church Shelby - ECPv6.15.20//NONSGML v1.0//EN
CALSCALE:GREGORIAN
METHOD:PUBLISH
X-ORIGINAL-URL:https://flcshelby.org
X-WR-CALDESC:Events for First Lutheran Church Shelby
REFRESH-INTERVAL;VALUE=DURATION:PT1H
X-Robots-Tag:noindex
X-PUBLISHED-TTL:PT1H
BEGIN:VTIMEZONE
TZID:UTC
BEGIN:STANDARD
TZOFFSETFROM:+0000
TZOFFSETTO:+0000
TZNAME:UTC
DTSTART:20240101T000000
END:STANDARD
END:VTIMEZONE
BEGIN:VEVENT
DTSTART;TZID=UTC:20251228T084500
DTEND;TZID=UTC:20251228T093000
DTSTAMP:20260425T213843
CREATED:20251013T174053Z
LAST-MODIFIED:20251013T174053Z
UID:9612-1766911500-1766914200@flcshelby.org
SUMMARY:Adult Table Talk Sunday School
DESCRIPTION:
URL:https://flcshelby.org/event/adult-table-talk-sunday-school-2/2025-12-28/
END:VEVENT
BEGIN:VEVENT
DTSTART;TZID=UTC:20251221T084500
DTEND;TZID=UTC:20251221T093000
DTSTAMP:20260425T213843
CREATED:20251013T174053Z
LAST-MODIFIED:20251013T174053Z
UID:9611-1766306700-1766309400@flcshelby.org
SUMMARY:Adult Table Talk Sunday School
DESCRIPTION:
URL:https://flcshelby.org/event/adult-table-talk-sunday-school-2/2025-12-21/
END:VEVENT
BEGIN:VEVENT
DTSTART;TZID=UTC:20251214T084500
DTEND;TZID=UTC:20251214T093000
DTSTAMP:20260425T213843
CREATED:20251013T174053Z
LAST-MODIFIED:20251013T174053Z
UID:9609-1765701900-1765704600@flcshelby.org
SUMMARY:Adult Table Talk Sunday School
DESCRIPTION:
URL:https://flcshelby.org/event/adult-table-talk-sunday-school-2/2025-12-14/
END:VEVENT
BEGIN:VEVENT
DTSTART;TZID=UTC:20251207T084500
DTEND;TZID=UTC:20251207T093000
DTSTAMP:20260425T213843
CREATED:20251013T174053Z
LAST-MODIFIED:20251013T174053Z
UID:9608-1765097100-1765099800@flcshelby.org
SUMMARY:Adult Table Talk Sunday School
DESCRIPTION:
URL:https://flcshelby.org/event/adult-table-talk-sunday-school-2/2025-12-07/
END:VEVENT
BEGIN:VEVENT
DTSTART;TZID=UTC:20251130T084500
DTEND;TZID=UTC:20251130T093000
DTSTAMP:20260425T213843
CREATED:20251013T174053Z
LAST-MODIFIED:20251013T174053Z
UID:9607-1764492300-1764495000@flcshelby.org
SUMMARY:Adult Table Talk Sunday School
DESCRIPTION:
URL:https://flcshelby.org/event/adult-table-talk-sunday-school-2/2025-11-30/
END:VEVENT
BEGIN:VEVENT
DTSTART;TZID=UTC:20251123T084500
DTEND;TZID=UTC:20251123T093000
DTSTAMP:20260425T213843
CREATED:20251013T174053Z
LAST-MODIFIED:20251013T174053Z
UID:9606-1763887500-1763890200@flcshelby.org
SUMMARY:Adult Table Talk Sunday School
DESCRIPTION:
URL:https://flcshelby.org/event/adult-table-talk-sunday-school-2/2025-11-23/
END:VEVENT
BEGIN:VEVENT
DTSTART;TZID=UTC:20251116T084500
DTEND;TZID=UTC:20251116T093000
DTSTAMP:20260425T213843
CREATED:20251013T174053Z
LAST-MODIFIED:20251013T174053Z
UID:9605-1763282700-1763285400@flcshelby.org
SUMMARY:Adult Table Talk Sunday School
DESCRIPTION:
URL:https://flcshelby.org/event/adult-table-talk-sunday-school-2/2025-11-16/
END:VEVENT
BEGIN:VEVENT
DTSTART;TZID=UTC:20251109T084500
DTEND;TZID=UTC:20251109T093000
DTSTAMP:20260425T213843
CREATED:20251013T174053Z
LAST-MODIFIED:20251013T174053Z
UID:9604-1762677900-1762680600@flcshelby.org
SUMMARY:Adult Table Talk Sunday School
DESCRIPTION:
URL:https://flcshelby.org/event/adult-table-talk-sunday-school-2/2025-11-09/
END:VEVENT
BEGIN:VEVENT
DTSTART;TZID=UTC:20251102T084500
DTEND;TZID=UTC:20251102T093000
DTSTAMP:20260425T213843
CREATED:20251013T174053Z
LAST-MODIFIED:20251013T174053Z
UID:9603-1762073100-1762075800@flcshelby.org
SUMMARY:Adult Table Talk Sunday School
DESCRIPTION:
URL:https://flcshelby.org/event/adult-table-talk-sunday-school-2/2025-11-02/
END:VEVENT
BEGIN:VEVENT
DTSTART;TZID=UTC:20251026T084500
DTEND;TZID=UTC:20251026T093000
DTSTAMP:20260425T213843
CREATED:20251013T174053Z
LAST-MODIFIED:20251013T174053Z
UID:9602-1761468300-1761471000@flcshelby.org
SUMMARY:Adult Table Talk Sunday School
DESCRIPTION:
URL:https://flcshelby.org/event/adult-table-talk-sunday-school-2/2025-10-26/
END:VEVENT
BEGIN:VEVENT
DTSTART;TZID=UTC:20251019T084500
DTEND;TZID=UTC:20251019T093000
DTSTAMP:20260425T213843
CREATED:20251013T174053Z
LAST-MODIFIED:20251013T174053Z
UID:9601-1760863500-1760866200@flcshelby.org
SUMMARY:Adult Table Talk Sunday School
DESCRIPTION:
URL:https://flcshelby.org/event/adult-table-talk-sunday-school-2/2025-10-19/
END:VEVENT
BEGIN:VEVENT
DTSTART;TZID=UTC:20251012T084500
DTEND;TZID=UTC:20251012T093000
DTSTAMP:20260425T213843
CREATED:20251013T174053Z
LAST-MODIFIED:20251013T174053Z
UID:9600-1760258700-1760261400@flcshelby.org
SUMMARY:Adult Table Talk Sunday School
DESCRIPTION:
URL:https://flcshelby.org/event/adult-table-talk-sunday-school-2/2025-10-12/
END:VEVENT
BEGIN:VEVENT
DTSTART;TZID=UTC:20251005T084500
DTEND;TZID=UTC:20251005T093000
DTSTAMP:20260425T213843
CREATED:20251013T174053Z
LAST-MODIFIED:20251013T174053Z
UID:9599-1759653900-1759656600@flcshelby.org
SUMMARY:Adult Table Talk Sunday School
DESCRIPTION:
URL:https://flcshelby.org/event/adult-table-talk-sunday-school-2/2025-10-05/
END:VEVENT
END:VCALENDAR