BEGIN:VCALENDAR
VERSION:2.0
PRODID:-//First Lutheran Church Shelby - ECPv6.15.20//NONSGML v1.0//EN
CALSCALE:GREGORIAN
METHOD:PUBLISH
X-WR-CALNAME:First Lutheran Church Shelby
X-ORIGINAL-URL:https://flcshelby.org
X-WR-CALDESC:Events for First Lutheran Church Shelby
REFRESH-INTERVAL;VALUE=DURATION:PT1H
X-Robots-Tag:noindex
X-PUBLISHED-TTL:PT1H
BEGIN:VTIMEZONE
TZID:UTC
BEGIN:STANDARD
TZOFFSETFROM:+0000
TZOFFSETTO:+0000
TZNAME:UTC
DTSTART:20240101T000000
END:STANDARD
END:VTIMEZONE
BEGIN:VEVENT
DTSTART;TZID=UTC:20250924T190000
DTEND;TZID=UTC:20250924T200000
DTSTAMP:20260426T043319
CREATED:20250831T194906Z
LAST-MODIFIED:20250831T194906Z
UID:9585-1758740400-1758744000@flcshelby.org
SUMMARY:Hand Bells
DESCRIPTION:
URL:https://flcshelby.org/event/hand-bells/2025-09-24/
END:VEVENT
BEGIN:VEVENT
DTSTART;TZID=UTC:20250917T190000
DTEND;TZID=UTC:20250917T200000
DTSTAMP:20260426T043319
CREATED:20250831T194906Z
LAST-MODIFIED:20250831T194906Z
UID:9584-1758135600-1758139200@flcshelby.org
SUMMARY:Hand Bells
DESCRIPTION:
URL:https://flcshelby.org/event/hand-bells/2025-09-17/
END:VEVENT
BEGIN:VEVENT
DTSTART;TZID=UTC:20250910T190000
DTEND;TZID=UTC:20250910T200000
DTSTAMP:20260426T043319
CREATED:20250831T194906Z
LAST-MODIFIED:20250831T194906Z
UID:9583-1757530800-1757534400@flcshelby.org
SUMMARY:Hand Bells
DESCRIPTION:
URL:https://flcshelby.org/event/hand-bells/2025-09-10/
END:VEVENT
END:VCALENDAR