BEGIN:VCALENDAR
VERSION:2.0
PRODID:-//First Lutheran Church Shelby - ECPv6.15.20//NONSGML v1.0//EN
CALSCALE:GREGORIAN
METHOD:PUBLISH
X-ORIGINAL-URL:https://flcshelby.org
X-WR-CALDESC:Events for First Lutheran Church Shelby
REFRESH-INTERVAL;VALUE=DURATION:PT1H
X-Robots-Tag:noindex
X-PUBLISHED-TTL:PT1H
BEGIN:VTIMEZONE
TZID:UTC
BEGIN:STANDARD
TZOFFSETFROM:+0000
TZOFFSETTO:+0000
TZNAME:UTC
DTSTART:20240101T000000
END:STANDARD
END:VTIMEZONE
BEGIN:VEVENT
DTSTART;TZID=UTC:20251208T100000
DTEND;TZID=UTC:20251208T110000
DTSTAMP:20260425T225333
CREATED:20251214T160538Z
LAST-MODIFIED:20251214T160538Z
UID:9799-1765188000-1765191600@flcshelby.org
SUMMARY:ABC Finance Committee
DESCRIPTION:
URL:https://flcshelby.org/event/abc-finance-committee-2/
END:VEVENT
END:VCALENDAR