BEGIN:VCALENDAR
VERSION:2.0
PRODID:-//First Lutheran Church Shelby - ECPv6.15.20//NONSGML v1.0//EN
CALSCALE:GREGORIAN
METHOD:PUBLISH
X-WR-CALNAME:First Lutheran Church Shelby
X-ORIGINAL-URL:https://flcshelby.org
X-WR-CALDESC:Events for First Lutheran Church Shelby
REFRESH-INTERVAL;VALUE=DURATION:PT1H
X-Robots-Tag:noindex
X-PUBLISHED-TTL:PT1H
BEGIN:VTIMEZONE
TZID:UTC
BEGIN:STANDARD
TZOFFSETFROM:+0000
TZOFFSETTO:+0000
TZNAME:UTC
DTSTART:20240101T000000
END:STANDARD
END:VTIMEZONE
BEGIN:VEVENT
DTSTART;TZID=UTC:20251210T090000
DTEND;TZID=UTC:20251210T113000
DTSTAMP:20260425T225245
CREATED:20251214T160218Z
LAST-MODIFIED:20251214T160218Z
UID:9788-1765357200-1765366200@flcshelby.org
SUMMARY:Food Pantry
DESCRIPTION:
URL:https://flcshelby.org/event/food-pantry-47/2025-12-10/
END:VEVENT
BEGIN:VEVENT
DTSTART;TZID=UTC:20251210T180000
DTEND;TZID=UTC:20251210T190000
DTSTAMP:20260425T225245
CREATED:20251214T155737Z
LAST-MODIFIED:20251214T155737Z
UID:9774-1765389600-1765393200@flcshelby.org
SUMMARY:Choir Rehearsal
DESCRIPTION:
URL:https://flcshelby.org/event/choir-rehearsal-3/2025-12-10/
END:VEVENT
BEGIN:VEVENT
DTSTART;TZID=UTC:20251210T190000
DTEND;TZID=UTC:20251210T200000
DTSTAMP:20260425T225245
CREATED:20251214T160018Z
LAST-MODIFIED:20251214T160018Z
UID:9780-1765393200-1765396800@flcshelby.org
SUMMARY:Bell Rehearsal
DESCRIPTION:
URL:https://flcshelby.org/event/bell-rehearsal-2/2025-12-10/
END:VEVENT
END:VCALENDAR