BEGIN:VCALENDAR
VERSION:2.0
PRODID:-//First Lutheran Church Shelby - ECPv6.15.20//NONSGML v1.0//EN
CALSCALE:GREGORIAN
METHOD:PUBLISH
X-WR-CALNAME:First Lutheran Church Shelby
X-ORIGINAL-URL:https://flcshelby.org
X-WR-CALDESC:Events for First Lutheran Church Shelby
REFRESH-INTERVAL;VALUE=DURATION:PT1H
X-Robots-Tag:noindex
X-PUBLISHED-TTL:PT1H
BEGIN:VTIMEZONE
TZID:UTC
BEGIN:STANDARD
TZOFFSETFROM:+0000
TZOFFSETTO:+0000
TZNAME:UTC
DTSTART:20250101T000000
END:STANDARD
END:VTIMEZONE
BEGIN:VEVENT
DTSTART;TZID=UTC:20260118T084500
DTEND;TZID=UTC:20260118T093000
DTSTAMP:20260425T200841
CREATED:20260115T144017Z
LAST-MODIFIED:20260115T144017Z
UID:9818-1768725900-1768728600@flcshelby.org
SUMMARY:Table Talk Adult Sunday School
DESCRIPTION:
URL:https://flcshelby.org/event/table-talk-adult-sunday-school-4/2026-01-18/
END:VEVENT
BEGIN:VEVENT
DTSTART;TZID=UTC:20260118T100000
DTEND;TZID=UTC:20260118T110000
DTSTAMP:20260425T200841
CREATED:20260115T144149Z
LAST-MODIFIED:20260115T144149Z
UID:9823-1768730400-1768734000@flcshelby.org
SUMMARY:Worship Service
DESCRIPTION:
URL:https://flcshelby.org/event/worship-service-7/2026-01-18/
END:VEVENT
BEGIN:VEVENT
DTSTART;TZID=UTC:20260118T110000
DTEND;TZID=UTC:20260118T113000
DTSTAMP:20260425T200841
CREATED:20260115T145125Z
LAST-MODIFIED:20260115T145125Z
UID:9869-1768734000-1768735800@flcshelby.org
SUMMARY:Budget Hearing
DESCRIPTION:
URL:https://flcshelby.org/event/budget-hearing-2/
END:VEVENT
BEGIN:VEVENT
DTSTART;TZID=UTC:20260118T180000
DTEND;TZID=UTC:20260118T193000
DTSTAMP:20260425T200841
CREATED:20260115T144241Z
LAST-MODIFIED:20260115T144241Z
UID:9828-1768759200-1768764600@flcshelby.org
SUMMARY:Youth Group
DESCRIPTION:
URL:https://flcshelby.org/event/youth-group-31/2026-01-18/
END:VEVENT
END:VCALENDAR