BEGIN:VCALENDAR
VERSION:2.0
PRODID:-//First Lutheran Church Shelby - ECPv6.15.20//NONSGML v1.0//EN
CALSCALE:GREGORIAN
METHOD:PUBLISH
X-ORIGINAL-URL:https://flcshelby.org
X-WR-CALDESC:Events for First Lutheran Church Shelby
REFRESH-INTERVAL;VALUE=DURATION:PT1H
X-Robots-Tag:noindex
X-PUBLISHED-TTL:PT1H
BEGIN:VTIMEZONE
TZID:UTC
BEGIN:STANDARD
TZOFFSETFROM:+0000
TZOFFSETTO:+0000
TZNAME:UTC
DTSTART:20250101T000000
END:STANDARD
END:VTIMEZONE
BEGIN:VEVENT
DTSTART;TZID=UTC:20260122T160000
DTEND;TZID=UTC:20260122T170000
DTSTAMP:20260425T200931
CREATED:20260115T144955Z
LAST-MODIFIED:20260115T144955Z
UID:9863-1769097600-1769101200@flcshelby.org
SUMMARY:Bible Study
DESCRIPTION:
URL:https://flcshelby.org/event/bible-study-2/2026-01-22/
END:VEVENT
END:VCALENDAR