BEGIN:VCALENDAR
VERSION:2.0
PRODID:-//First Lutheran Church Shelby - ECPv6.15.20//NONSGML v1.0//EN
CALSCALE:GREGORIAN
METHOD:PUBLISH
X-ORIGINAL-URL:https://flcshelby.org
X-WR-CALDESC:Events for First Lutheran Church Shelby
REFRESH-INTERVAL;VALUE=DURATION:PT1H
X-Robots-Tag:noindex
X-PUBLISHED-TTL:PT1H
BEGIN:VTIMEZONE
TZID:UTC
BEGIN:STANDARD
TZOFFSETFROM:+0000
TZOFFSETTO:+0000
TZNAME:UTC
DTSTART:20250101T000000
END:STANDARD
END:VTIMEZONE
BEGIN:VEVENT
DTSTART;TZID=UTC:20260303T110000
DTEND;TZID=UTC:20260303T120000
DTSTAMP:20260425T125404
CREATED:20260302T150021Z
LAST-MODIFIED:20260302T150021Z
UID:10001-1772535600-1772539200@flcshelby.org
SUMMARY:Stewardship Committee
DESCRIPTION:
URL:https://flcshelby.org/event/stewardship-committee-9/
END:VEVENT
BEGIN:VEVENT
DTSTART;TZID=UTC:20260303T190000
DTEND;TZID=UTC:20260303T200000
DTSTAMP:20260425T125404
CREATED:20260302T145902Z
LAST-MODIFIED:20260302T145902Z
UID:9999-1772564400-1772568000@flcshelby.org
SUMMARY:Committees
DESCRIPTION:
URL:https://flcshelby.org/event/committees-16/
END:VEVENT
END:VCALENDAR