BEGIN:VCALENDAR
VERSION:2.0
PRODID:-//First Lutheran Church Shelby - ECPv6.15.20//NONSGML v1.0//EN
CALSCALE:GREGORIAN
METHOD:PUBLISH
X-WR-CALNAME:First Lutheran Church Shelby
X-ORIGINAL-URL:https://flcshelby.org
X-WR-CALDESC:Events for First Lutheran Church Shelby
REFRESH-INTERVAL;VALUE=DURATION:PT1H
X-Robots-Tag:noindex
X-PUBLISHED-TTL:PT1H
BEGIN:VTIMEZONE
TZID:UTC
BEGIN:STANDARD
TZOFFSETFROM:+0000
TZOFFSETTO:+0000
TZNAME:UTC
DTSTART:20250101T000000
END:STANDARD
END:VTIMEZONE
BEGIN:VEVENT
DTSTART;TZID=UTC:20260308T084500
DTEND;TZID=UTC:20260308T093000
DTSTAMP:20260425T113230
CREATED:20260302T144614Z
LAST-MODIFIED:20260302T144614Z
UID:9971-1772959500-1772962200@flcshelby.org
SUMMARY:Table Talk Adult Sunday School
DESCRIPTION:
URL:https://flcshelby.org/event/table-talk-adult-sunday-school-6/2026-03-08/
END:VEVENT
BEGIN:VEVENT
DTSTART;TZID=UTC:20260308T100000
DTEND;TZID=UTC:20260308T110000
DTSTAMP:20260425T113230
CREATED:20260302T144819Z
LAST-MODIFIED:20260302T144819Z
UID:9976-1772964000-1772967600@flcshelby.org
SUMMARY:Worship
DESCRIPTION:
URL:https://flcshelby.org/event/worship-34/2026-03-08/
END:VEVENT
BEGIN:VEVENT
DTSTART;TZID=UTC:20260308T110000
DTEND;TZID=UTC:20260308T120000
DTSTAMP:20260425T113230
CREATED:20260302T145218Z
LAST-MODIFIED:20260302T145218Z
UID:9990-1772967600-1772971200@flcshelby.org
SUMMARY:Confirmation Class
DESCRIPTION:
URL:https://flcshelby.org/event/confirmation-class-8/2026-03-08/
END:VEVENT
BEGIN:VEVENT
DTSTART;TZID=UTC:20260308T180000
DTEND;TZID=UTC:20260308T193000
DTSTAMP:20260425T113230
CREATED:20260302T145041Z
LAST-MODIFIED:20260302T145041Z
UID:9985-1772992800-1772998200@flcshelby.org
SUMMARY:Youth Group
DESCRIPTION:
URL:https://flcshelby.org/event/youth-group-33/2026-03-08/
END:VEVENT
END:VCALENDAR