BEGIN:VCALENDAR
VERSION:2.0
PRODID:-//First Lutheran Church Shelby - ECPv6.15.20//NONSGML v1.0//EN
CALSCALE:GREGORIAN
METHOD:PUBLISH
X-WR-CALNAME:First Lutheran Church Shelby
X-ORIGINAL-URL:https://flcshelby.org
X-WR-CALDESC:Events for First Lutheran Church Shelby
REFRESH-INTERVAL;VALUE=DURATION:PT1H
X-Robots-Tag:noindex
X-PUBLISHED-TTL:PT1H
BEGIN:VTIMEZONE
TZID:UTC
BEGIN:STANDARD
TZOFFSETFROM:+0000
TZOFFSETTO:+0000
TZNAME:UTC
DTSTART:20250101T000000
END:STANDARD
END:VTIMEZONE
BEGIN:VEVENT
DTSTART;TZID=UTC:20260311T090000
DTEND;TZID=UTC:20260311T113000
DTSTAMP:20260425T154319
CREATED:20260302T150556Z
LAST-MODIFIED:20260302T150556Z
UID:10012-1773219600-1773228600@flcshelby.org
SUMMARY:Food Pantry
DESCRIPTION:
URL:https://flcshelby.org/event/food-pantry-50/2026-03-11/
END:VEVENT
BEGIN:VEVENT
DTSTART;TZID=UTC:20260311T090000
DTEND;TZID=UTC:20260311T120000
DTSTAMP:20260425T154319
CREATED:20260302T150931Z
LAST-MODIFIED:20260302T150931Z
UID:10027-1773219600-1773230400@flcshelby.org
SUMMARY:Sewing Ministry
DESCRIPTION:
URL:https://flcshelby.org/event/sewing-ministry/
END:VEVENT
BEGIN:VEVENT
DTSTART;TZID=UTC:20260311T170000
DTEND;TZID=UTC:20260311T180000
DTSTAMP:20260425T154319
CREATED:20260302T150708Z
LAST-MODIFIED:20260302T150708Z
UID:10017-1773248400-1773252000@flcshelby.org
SUMMARY:Choir Rehearsal
DESCRIPTION:
URL:https://flcshelby.org/event/choir-rehearsal-9/2026-03-11/
END:VEVENT
BEGIN:VEVENT
DTSTART;TZID=UTC:20260311T200000
DTEND;TZID=UTC:20260311T210000
DTSTAMP:20260425T154319
CREATED:20260302T150820Z
LAST-MODIFIED:20260302T150820Z
UID:10022-1773259200-1773262800@flcshelby.org
SUMMARY:Bell Rehearsal
DESCRIPTION:
URL:https://flcshelby.org/event/bell-rehearsal-7/2026-03-11/
END:VEVENT
END:VCALENDAR