BEGIN:VCALENDAR
VERSION:2.0
PRODID:-//First Lutheran Church Shelby - ECPv6.15.20//NONSGML v1.0//EN
CALSCALE:GREGORIAN
METHOD:PUBLISH
X-ORIGINAL-URL:https://flcshelby.org
X-WR-CALDESC:Events for First Lutheran Church Shelby
REFRESH-INTERVAL;VALUE=DURATION:PT1H
X-Robots-Tag:noindex
X-PUBLISHED-TTL:PT1H
BEGIN:VTIMEZONE
TZID:UTC
BEGIN:STANDARD
TZOFFSETFROM:+0000
TZOFFSETTO:+0000
TZNAME:UTC
DTSTART:20250101T000000
END:STANDARD
END:VTIMEZONE
BEGIN:VEVENT
DTSTART;TZID=UTC:20260401T090000
DTEND;TZID=UTC:20260401T113000
DTSTAMP:20260425T102835
CREATED:20260420T183327Z
LAST-MODIFIED:20260420T183327Z
UID:10112-1775034000-1775043000@flcshelby.org
SUMMARY:Food Pantry
DESCRIPTION:
URL:https://flcshelby.org/event/food-pantry-51/2026-04-01/
END:VEVENT
END:VCALENDAR