BEGIN:VCALENDAR
VERSION:2.0
PRODID:-//First Lutheran Church Shelby - ECPv6.15.20//NONSGML v1.0//EN
CALSCALE:GREGORIAN
METHOD:PUBLISH
X-WR-CALNAME:First Lutheran Church Shelby
X-ORIGINAL-URL:https://flcshelby.org
X-WR-CALDESC:Events for First Lutheran Church Shelby
REFRESH-INTERVAL;VALUE=DURATION:PT1H
X-Robots-Tag:noindex
X-PUBLISHED-TTL:PT1H
BEGIN:VTIMEZONE
TZID:UTC
BEGIN:STANDARD
TZOFFSETFROM:+0000
TZOFFSETTO:+0000
TZNAME:UTC
DTSTART:20250101T000000
END:STANDARD
END:VTIMEZONE
BEGIN:VEVENT
DTSTART;TZID=UTC:20260426T084500
DTEND;TZID=UTC:20260426T094500
DTSTAMP:20260426T014018
CREATED:20260420T181642Z
LAST-MODIFIED:20260420T181642Z
UID:10077-1777193100-1777196700@flcshelby.org
SUMMARY:Adult Table Talk
DESCRIPTION:
URL:https://flcshelby.org/event/adult-table-talk-5/2026-04-26/
END:VEVENT
BEGIN:VEVENT
DTSTART;TZID=UTC:20260426T100000
DTEND;TZID=UTC:20260426T110000
DTSTAMP:20260426T014018
CREATED:20260420T181749Z
LAST-MODIFIED:20260420T181749Z
UID:10081-1777197600-1777201200@flcshelby.org
SUMMARY:Worship
DESCRIPTION:
URL:https://flcshelby.org/event/worship-35/2026-04-26/
END:VEVENT
BEGIN:VEVENT
DTSTART;TZID=UTC:20260426T110000
DTEND;TZID=UTC:20260426T120000
DTSTAMP:20260426T014018
CREATED:20260420T181905Z
LAST-MODIFIED:20260420T181905Z
UID:10084-1777201200-1777204800@flcshelby.org
SUMMARY:Confirmation Class
DESCRIPTION:
URL:https://flcshelby.org/event/confirmation-class-9/2026-04-26/
END:VEVENT
BEGIN:VEVENT
DTSTART;TZID=UTC:20260426T180000
DTEND;TZID=UTC:20260426T193000
DTSTAMP:20260426T014018
CREATED:20260420T182018Z
LAST-MODIFIED:20260420T182018Z
UID:10088-1777226400-1777231800@flcshelby.org
SUMMARY:Youth Group
DESCRIPTION:
URL:https://flcshelby.org/event/youth-group-34/2026-04-26/
END:VEVENT
END:VCALENDAR