BEGIN:VCALENDAR
VERSION:2.0
PRODID:-//First Lutheran Church Shelby - ECPv6.15.20//NONSGML v1.0//EN
CALSCALE:GREGORIAN
METHOD:PUBLISH
X-WR-CALNAME:First Lutheran Church Shelby
X-ORIGINAL-URL:https://flcshelby.org
X-WR-CALDESC:Events for First Lutheran Church Shelby
REFRESH-INTERVAL;VALUE=DURATION:PT1H
X-Robots-Tag:noindex
X-PUBLISHED-TTL:PT1H
BEGIN:VTIMEZONE
TZID:UTC
BEGIN:STANDARD
TZOFFSETFROM:+0000
TZOFFSETTO:+0000
TZNAME:UTC
DTSTART:20240101T000000
END:STANDARD
END:VTIMEZONE
BEGIN:VEVENT
DTSTART;TZID=UTC:20251028T163000
DTEND;TZID=UTC:20251028T183000
DTSTAMP:20260426T032922
CREATED:20251013T175221Z
LAST-MODIFIED:20251013T175221Z
UID:9649-1761669000-1761676200@flcshelby.org
SUMMARY:Community Dinner
DESCRIPTION:
URL:https://flcshelby.org/event/community-dinner-4/
END:VEVENT
BEGIN:VEVENT
DTSTART;TZID=UTC:20251026T170000
DTEND;TZID=UTC:20251026T200000
DTSTAMP:20260426T032922
CREATED:20251013T174639Z
LAST-MODIFIED:20251013T174639Z
UID:9634-1761498000-1761508800@flcshelby.org
SUMMARY:Youth Group Halloween Party 5pm
DESCRIPTION:
URL:https://flcshelby.org/event/youth-group-halloween-party-5pm/
END:VEVENT
BEGIN:VEVENT
DTSTART;TZID=UTC:20251026T110000
DTEND;TZID=UTC:20251026T120000
DTSTAMP:20260426T032922
CREATED:20251013T174750Z
LAST-MODIFIED:20251013T174750Z
UID:9637-1761476400-1761480000@flcshelby.org
SUMMARY:Confirmation Class
DESCRIPTION:
URL:https://flcshelby.org/event/confirmation-class-5/2025-10-26/
END:VEVENT
BEGIN:VEVENT
DTSTART;TZID=UTC:20251026T100000
DTEND;TZID=UTC:20251026T110000
DTSTAMP:20260426T032922
CREATED:20251013T174231Z
LAST-MODIFIED:20251013T174231Z
UID:9617-1761472800-1761476400@flcshelby.org
SUMMARY:Worship Service
DESCRIPTION:
URL:https://flcshelby.org/event/worship-service-6/2025-10-26/
END:VEVENT
BEGIN:VEVENT
DTSTART;TZID=UTC:20251026T084500
DTEND;TZID=UTC:20251026T093000
DTSTAMP:20260426T032922
CREATED:20251013T174053Z
LAST-MODIFIED:20251013T174053Z
UID:9602-1761468300-1761471000@flcshelby.org
SUMMARY:Adult Table Talk Sunday School
DESCRIPTION:
URL:https://flcshelby.org/event/adult-table-talk-sunday-school-2/2025-10-26/
END:VEVENT
BEGIN:VEVENT
DTSTART;TZID=UTC:20251025T140000
DTEND;TZID=UTC:20251025T160000
DTSTAMP:20260426T032922
CREATED:20251013T180050Z
LAST-MODIFIED:20251013T180050Z
UID:9675-1761400800-1761408000@flcshelby.org
SUMMARY:Trunk or Treat 2pm
DESCRIPTION:2:00pm\, following Halloween Parade
URL:https://flcshelby.org/event/trunk-or-treat-2pm/
END:VEVENT
BEGIN:VEVENT
DTSTART;TZID=UTC:20251022T190000
DTEND;TZID=UTC:20251022T200000
DTSTAMP:20260426T032922
CREATED:20251013T175607Z
LAST-MODIFIED:20251013T175607Z
UID:9666-1761159600-1761163200@flcshelby.org
SUMMARY:Hand Bell Rehearsal
DESCRIPTION:
URL:https://flcshelby.org/event/hand-bell-rehearsal/2025-10-22/
END:VEVENT
BEGIN:VEVENT
DTSTART;TZID=UTC:20251022T180000
DTEND;TZID=UTC:20251022T190000
DTSTAMP:20260426T032922
CREATED:20251013T175508Z
LAST-MODIFIED:20251013T175508Z
UID:9660-1761156000-1761159600@flcshelby.org
SUMMARY:Choir Rehearsal
DESCRIPTION:
URL:https://flcshelby.org/event/choir-rehearsal-2/2025-10-22/
END:VEVENT
BEGIN:VEVENT
DTSTART;TZID=UTC:20251022T090000
DTEND;TZID=UTC:20251022T113000
DTSTAMP:20260426T032922
CREATED:20251013T175345Z
LAST-MODIFIED:20251013T175345Z
UID:9654-1761123600-1761132600@flcshelby.org
SUMMARY:Food Pantry
DESCRIPTION:
URL:https://flcshelby.org/event/food-pantry-45/2025-10-22/
END:VEVENT
BEGIN:VEVENT
DTSTART;TZID=UTC:20251020T120000
DTEND;TZID=UTC:20251020T130000
DTSTAMP:20260426T032922
CREATED:20251013T175150Z
LAST-MODIFIED:20251013T175150Z
UID:9647-1760961600-1760965200@flcshelby.org
SUMMARY:Meet Me On Monday
DESCRIPTION:China Town Restaurant\, Mansfield
URL:https://flcshelby.org/event/meet-me-on-monday-8/
END:VEVENT
BEGIN:VEVENT
DTSTART;TZID=UTC:20251019T110000
DTEND;TZID=UTC:20251019T140000
DTSTAMP:20260426T032922
CREATED:20251013T174538Z
LAST-MODIFIED:20251013T174538Z
UID:9632-1760871600-1760882400@flcshelby.org
SUMMARY:Youth Group Corn Maze Mini Golf 11am
DESCRIPTION:
URL:https://flcshelby.org/event/youth-group-corn-maze-mini-golf-11am/
END:VEVENT
BEGIN:VEVENT
DTSTART;TZID=UTC:20251019T100000
DTEND;TZID=UTC:20251019T110000
DTSTAMP:20260426T032922
CREATED:20251013T174231Z
LAST-MODIFIED:20251013T174231Z
UID:9616-1760868000-1760871600@flcshelby.org
SUMMARY:Worship Service
DESCRIPTION:
URL:https://flcshelby.org/event/worship-service-6/2025-10-19/
END:VEVENT
BEGIN:VEVENT
DTSTART;TZID=UTC:20251019T084500
DTEND;TZID=UTC:20251019T093000
DTSTAMP:20260426T032922
CREATED:20251013T174053Z
LAST-MODIFIED:20251013T174053Z
UID:9601-1760863500-1760866200@flcshelby.org
SUMMARY:Adult Table Talk Sunday School
DESCRIPTION:
URL:https://flcshelby.org/event/adult-table-talk-sunday-school-2/2025-10-19/
END:VEVENT
BEGIN:VEVENT
DTSTART;TZID=UTC:20251018T080000
DTEND;TZID=UTC:20251018T100000
DTSTAMP:20260426T032922
CREATED:20251013T175658Z
LAST-MODIFIED:20251013T175658Z
UID:9669-1760774400-1760781600@flcshelby.org
SUMMARY:Community Breakfast
DESCRIPTION:
URL:https://flcshelby.org/event/community-breakfast-30/
END:VEVENT
BEGIN:VEVENT
DTSTART;TZID=UTC:20251015T190000
DTEND;TZID=UTC:20251015T200000
DTSTAMP:20260426T032922
CREATED:20251013T175607Z
LAST-MODIFIED:20251013T175607Z
UID:9665-1760554800-1760558400@flcshelby.org
SUMMARY:Hand Bell Rehearsal
DESCRIPTION:
URL:https://flcshelby.org/event/hand-bell-rehearsal/2025-10-15/
END:VEVENT
BEGIN:VEVENT
DTSTART;TZID=UTC:20251015T180000
DTEND;TZID=UTC:20251015T190000
DTSTAMP:20260426T032922
CREATED:20251013T175508Z
LAST-MODIFIED:20251013T175508Z
UID:9659-1760551200-1760554800@flcshelby.org
SUMMARY:Choir Rehearsal
DESCRIPTION:
URL:https://flcshelby.org/event/choir-rehearsal-2/2025-10-15/
END:VEVENT
BEGIN:VEVENT
DTSTART;TZID=UTC:20251015T090000
DTEND;TZID=UTC:20251015T113000
DTSTAMP:20260426T032922
CREATED:20251013T175345Z
LAST-MODIFIED:20251013T175345Z
UID:9653-1760518800-1760527800@flcshelby.org
SUMMARY:Food Pantry
DESCRIPTION:
URL:https://flcshelby.org/event/food-pantry-45/2025-10-15/
END:VEVENT
BEGIN:VEVENT
DTSTART;TZID=UTC:20251014T190000
DTEND;TZID=UTC:20251014T210000
DTSTAMP:20260426T032922
CREATED:20251013T174927Z
LAST-MODIFIED:20251013T174927Z
UID:9641-1760468400-1760475600@flcshelby.org
SUMMARY:Council Meeting
DESCRIPTION:
URL:https://flcshelby.org/event/council-meeting-2/
END:VEVENT
BEGIN:VEVENT
DTSTART;TZID=UTC:20251013T140000
DTEND;TZID=UTC:20251013T150000
DTSTAMP:20260426T032922
CREATED:20251013T175006Z
LAST-MODIFIED:20251013T175006Z
UID:9643-1760364000-1760367600@flcshelby.org
SUMMARY:Church Finance Committee
DESCRIPTION:
URL:https://flcshelby.org/event/church-finance-committee/
END:VEVENT
BEGIN:VEVENT
DTSTART;TZID=UTC:20251013T100000
DTEND;TZID=UTC:20251013T110000
DTSTAMP:20260426T032922
CREATED:20251013T175050Z
LAST-MODIFIED:20251013T175050Z
UID:9645-1760349600-1760353200@flcshelby.org
SUMMARY:ABC Finance Committee
DESCRIPTION:
URL:https://flcshelby.org/event/abc-finance-committee/
END:VEVENT
BEGIN:VEVENT
DTSTART;TZID=UTC:20251012T180000
DTEND;TZID=UTC:20251012T200000
DTSTAMP:20260426T032922
CREATED:20251013T175927Z
LAST-MODIFIED:20251013T175927Z
UID:9673-1760292000-1760299200@flcshelby.org
SUMMARY:South of Mason Concert
DESCRIPTION:
URL:https://flcshelby.org/event/south-of-mason-concert/
END:VEVENT
BEGIN:VEVENT
DTSTART;TZID=UTC:20251012T180000
DTEND;TZID=UTC:20251012T193000
DTSTAMP:20260426T032922
CREATED:20251013T174431Z
LAST-MODIFIED:20251013T174431Z
UID:9630-1760292000-1760297400@flcshelby.org
SUMMARY:Youth Group Faith Night 6pm
DESCRIPTION:
URL:https://flcshelby.org/event/youth-group-faith-night-6pm/
END:VEVENT
BEGIN:VEVENT
DTSTART;TZID=UTC:20251012T110000
DTEND;TZID=UTC:20251012T120000
DTSTAMP:20260426T032922
CREATED:20251013T174750Z
LAST-MODIFIED:20251013T174750Z
UID:9636-1760266800-1760270400@flcshelby.org
SUMMARY:Confirmation Class
DESCRIPTION:
URL:https://flcshelby.org/event/confirmation-class-5/2025-10-12/
END:VEVENT
BEGIN:VEVENT
DTSTART;TZID=UTC:20251012T100000
DTEND;TZID=UTC:20251012T110000
DTSTAMP:20260426T032922
CREATED:20251013T174231Z
LAST-MODIFIED:20251013T174231Z
UID:9615-1760263200-1760266800@flcshelby.org
SUMMARY:Worship Service
DESCRIPTION:
URL:https://flcshelby.org/event/worship-service-6/2025-10-12/
END:VEVENT
BEGIN:VEVENT
DTSTART;TZID=UTC:20251012T084500
DTEND;TZID=UTC:20251012T093000
DTSTAMP:20260426T032922
CREATED:20251013T174053Z
LAST-MODIFIED:20251013T174053Z
UID:9600-1760258700-1760261400@flcshelby.org
SUMMARY:Adult Table Talk Sunday School
DESCRIPTION:
URL:https://flcshelby.org/event/adult-table-talk-sunday-school-2/2025-10-12/
END:VEVENT
BEGIN:VEVENT
DTSTART;TZID=UTC:20251008T190000
DTEND;TZID=UTC:20251008T200000
DTSTAMP:20260426T032922
CREATED:20251013T175607Z
LAST-MODIFIED:20251013T175607Z
UID:9664-1759950000-1759953600@flcshelby.org
SUMMARY:Hand Bell Rehearsal
DESCRIPTION:
URL:https://flcshelby.org/event/hand-bell-rehearsal/2025-10-08/
END:VEVENT
BEGIN:VEVENT
DTSTART;TZID=UTC:20251008T180000
DTEND;TZID=UTC:20251008T190000
DTSTAMP:20260426T032922
CREATED:20251013T175508Z
LAST-MODIFIED:20251013T175508Z
UID:9658-1759946400-1759950000@flcshelby.org
SUMMARY:Choir Rehearsal
DESCRIPTION:
URL:https://flcshelby.org/event/choir-rehearsal-2/2025-10-08/
END:VEVENT
BEGIN:VEVENT
DTSTART;TZID=UTC:20251008T090000
DTEND;TZID=UTC:20251008T120000
DTSTAMP:20260426T032922
CREATED:20251013T175825Z
LAST-MODIFIED:20251013T175825Z
UID:9671-1759914000-1759924800@flcshelby.org
SUMMARY:Willing Workers / Quilters
DESCRIPTION:
URL:https://flcshelby.org/event/willing-workers-quilters-4/
END:VEVENT
BEGIN:VEVENT
DTSTART;TZID=UTC:20251008T090000
DTEND;TZID=UTC:20251008T113000
DTSTAMP:20260426T032922
CREATED:20251013T175345Z
LAST-MODIFIED:20251013T175345Z
UID:9652-1759914000-1759923000@flcshelby.org
SUMMARY:Food Pantry
DESCRIPTION:
URL:https://flcshelby.org/event/food-pantry-45/2025-10-08/
END:VEVENT
BEGIN:VEVENT
DTSTART;TZID=UTC:20251007T190000
DTEND;TZID=UTC:20251007T200000
DTSTAMP:20260426T032922
CREATED:20251013T174841Z
LAST-MODIFIED:20251013T174841Z
UID:9639-1759863600-1759867200@flcshelby.org
SUMMARY:Committees
DESCRIPTION:Worship & Property
URL:https://flcshelby.org/event/committees-11/
END:VEVENT
END:VCALENDAR