BEGIN:VCALENDAR
VERSION:2.0
PRODID:-//First Lutheran Church Shelby - ECPv6.15.20//NONSGML v1.0//EN
CALSCALE:GREGORIAN
METHOD:PUBLISH
X-ORIGINAL-URL:https://flcshelby.org
X-WR-CALDESC:Events for First Lutheran Church Shelby
REFRESH-INTERVAL;VALUE=DURATION:PT1H
X-Robots-Tag:noindex
X-PUBLISHED-TTL:PT1H
BEGIN:VTIMEZONE
TZID:UTC
BEGIN:STANDARD
TZOFFSETFROM:+0000
TZOFFSETTO:+0000
TZNAME:UTC
DTSTART:20240101T000000
END:STANDARD
END:VTIMEZONE
BEGIN:VEVENT
DTSTART;TZID=UTC:20251102T084500
DTEND;TZID=UTC:20251102T093000
DTSTAMP:20260426T032922
CREATED:20251013T174053Z
LAST-MODIFIED:20251013T174053Z
UID:9603-1762073100-1762075800@flcshelby.org
SUMMARY:Adult Table Talk Sunday School
DESCRIPTION:
URL:https://flcshelby.org/event/adult-table-talk-sunday-school-2/2025-11-02/
END:VEVENT
BEGIN:VEVENT
DTSTART;TZID=UTC:20251102T100000
DTEND;TZID=UTC:20251102T110000
DTSTAMP:20260426T032922
CREATED:20251013T174231Z
LAST-MODIFIED:20251013T174231Z
UID:9618-1762077600-1762081200@flcshelby.org
SUMMARY:Worship Service
DESCRIPTION:
URL:https://flcshelby.org/event/worship-service-6/2025-11-02/
END:VEVENT
BEGIN:VEVENT
DTSTART;TZID=UTC:20251102T180000
DTEND;TZID=UTC:20251102T193000
DTSTAMP:20260426T032922
CREATED:20251106T164806Z
LAST-MODIFIED:20251106T164806Z
UID:9693-1762106400-1762111800@flcshelby.org
SUMMARY:Youth Group
DESCRIPTION:
URL:https://flcshelby.org/event/youth-group-28/2025-11-02/
END:VEVENT
BEGIN:VEVENT
DTSTART;TZID=UTC:20251104T190000
DTEND;TZID=UTC:20251104T200000
DTSTAMP:20260426T032922
CREATED:20251106T165059Z
LAST-MODIFIED:20251106T165059Z
UID:9704-1762282800-1762286400@flcshelby.org
SUMMARY:Committees
DESCRIPTION:
URL:https://flcshelby.org/event/committees-12/
END:VEVENT
BEGIN:VEVENT
DTSTART;TZID=UTC:20251105T090000
DTEND;TZID=UTC:20251105T113000
DTSTAMP:20260426T032922
CREATED:20251106T165150Z
LAST-MODIFIED:20251106T165150Z
UID:9706-1762333200-1762342200@flcshelby.org
SUMMARY:Food Pantry
DESCRIPTION:
URL:https://flcshelby.org/event/food-pantry-46/2025-11-05/
END:VEVENT
BEGIN:VEVENT
DTSTART;TZID=UTC:20251105T180000
DTEND;TZID=UTC:20251105T200000
DTSTAMP:20260426T032922
CREATED:20251106T165249Z
LAST-MODIFIED:20251106T165249Z
UID:9712-1762365600-1762372800@flcshelby.org
SUMMARY:Music Rehearsals
DESCRIPTION:Choir 6pm\nBells 7pm
URL:https://flcshelby.org/event/music-rehearsals/2025-11-05/
END:VEVENT
BEGIN:VEVENT
DTSTART;TZID=UTC:20251109T084500
DTEND;TZID=UTC:20251109T093000
DTSTAMP:20260426T032922
CREATED:20251013T174053Z
LAST-MODIFIED:20251013T174053Z
UID:9604-1762677900-1762680600@flcshelby.org
SUMMARY:Adult Table Talk Sunday School
DESCRIPTION:
URL:https://flcshelby.org/event/adult-table-talk-sunday-school-2/2025-11-09/
END:VEVENT
BEGIN:VEVENT
DTSTART;TZID=UTC:20251109T100000
DTEND;TZID=UTC:20251109T110000
DTSTAMP:20260426T032922
CREATED:20251013T174231Z
LAST-MODIFIED:20251013T174231Z
UID:9619-1762682400-1762686000@flcshelby.org
SUMMARY:Worship Service
DESCRIPTION:
URL:https://flcshelby.org/event/worship-service-6/2025-11-09/
END:VEVENT
BEGIN:VEVENT
DTSTART;TZID=UTC:20251109T110000
DTEND;TZID=UTC:20251109T120000
DTSTAMP:20260426T032922
CREATED:20251106T164906Z
LAST-MODIFIED:20251106T164906Z
UID:9699-1762686000-1762689600@flcshelby.org
SUMMARY:Confirmation Class
DESCRIPTION:
URL:https://flcshelby.org/event/confirmation-class-6/2025-11-09/
END:VEVENT
BEGIN:VEVENT
DTSTART;TZID=UTC:20251109T180000
DTEND;TZID=UTC:20251109T193000
DTSTAMP:20260426T032922
CREATED:20251106T164806Z
LAST-MODIFIED:20251106T164806Z
UID:9694-1762711200-1762716600@flcshelby.org
SUMMARY:Youth Group
DESCRIPTION:
URL:https://flcshelby.org/event/youth-group-28/2025-11-09/
END:VEVENT
BEGIN:VEVENT
DTSTART;VALUE=DATE:20251110
DTEND;VALUE=DATE:20251111
DTSTAMP:20260426T032922
CREATED:20251106T170048Z
LAST-MODIFIED:20251106T170048Z
UID:9719-1762732800-1762819199@flcshelby.org
SUMMARY:Church Finance TBA
DESCRIPTION:
URL:https://flcshelby.org/event/church-finance-tba/
END:VEVENT
BEGIN:VEVENT
DTSTART;TZID=UTC:20251110T100000
DTEND;TZID=UTC:20251110T120000
DTSTAMP:20260426T032922
CREATED:20251106T170133Z
LAST-MODIFIED:20251106T170133Z
UID:9721-1762768800-1762776000@flcshelby.org
SUMMARY:ABC Finanace
DESCRIPTION:
URL:https://flcshelby.org/event/abc-finanace/
END:VEVENT
BEGIN:VEVENT
DTSTART;TZID=UTC:20251111T190000
DTEND;TZID=UTC:20251111T210000
DTSTAMP:20260426T032922
CREATED:20251106T165016Z
LAST-MODIFIED:20251106T165016Z
UID:9702-1762887600-1762894800@flcshelby.org
SUMMARY:Council Meeting
DESCRIPTION:
URL:https://flcshelby.org/event/council-meeting-3/
END:VEVENT
BEGIN:VEVENT
DTSTART;TZID=UTC:20251112T090000
DTEND;TZID=UTC:20251112T113000
DTSTAMP:20260426T032922
CREATED:20251106T165150Z
LAST-MODIFIED:20251106T165150Z
UID:9707-1762938000-1762947000@flcshelby.org
SUMMARY:Food Pantry
DESCRIPTION:
URL:https://flcshelby.org/event/food-pantry-46/2025-11-12/
END:VEVENT
BEGIN:VEVENT
DTSTART;TZID=UTC:20251112T090000
DTEND;TZID=UTC:20251112T120000
DTSTAMP:20260426T032922
CREATED:20251106T165911Z
LAST-MODIFIED:20251106T165911Z
UID:9717-1762938000-1762948800@flcshelby.org
SUMMARY:Quilters
DESCRIPTION:
URL:https://flcshelby.org/event/quilters-9/
END:VEVENT
BEGIN:VEVENT
DTSTART;TZID=UTC:20251112T180000
DTEND;TZID=UTC:20251112T200000
DTSTAMP:20260426T032922
CREATED:20251106T165249Z
LAST-MODIFIED:20251106T165249Z
UID:9713-1762970400-1762977600@flcshelby.org
SUMMARY:Music Rehearsals
DESCRIPTION:Choir 6pm\nBells 7pm
URL:https://flcshelby.org/event/music-rehearsals/2025-11-12/
END:VEVENT
BEGIN:VEVENT
DTSTART;TZID=UTC:20251115T080000
DTEND;TZID=UTC:20251115T100000
DTSTAMP:20260426T032922
CREATED:20251106T164527Z
LAST-MODIFIED:20251106T164527Z
UID:9687-1763193600-1763200800@flcshelby.org
SUMMARY:Community Breakfast
DESCRIPTION:
URL:https://flcshelby.org/event/community-breakfast-31/
END:VEVENT
BEGIN:VEVENT
DTSTART;TZID=UTC:20251116T084500
DTEND;TZID=UTC:20251116T093000
DTSTAMP:20260426T032922
CREATED:20251013T174053Z
LAST-MODIFIED:20251013T174053Z
UID:9605-1763282700-1763285400@flcshelby.org
SUMMARY:Adult Table Talk Sunday School
DESCRIPTION:
URL:https://flcshelby.org/event/adult-table-talk-sunday-school-2/2025-11-16/
END:VEVENT
BEGIN:VEVENT
DTSTART;TZID=UTC:20251116T100000
DTEND;TZID=UTC:20251116T110000
DTSTAMP:20260426T032922
CREATED:20251013T174231Z
LAST-MODIFIED:20251013T174231Z
UID:9620-1763287200-1763290800@flcshelby.org
SUMMARY:Worship Service
DESCRIPTION:
URL:https://flcshelby.org/event/worship-service-6/2025-11-16/
END:VEVENT
BEGIN:VEVENT
DTSTART;TZID=UTC:20251116T180000
DTEND;TZID=UTC:20251116T193000
DTSTAMP:20260426T032922
CREATED:20251106T164806Z
LAST-MODIFIED:20251106T164806Z
UID:9695-1763316000-1763321400@flcshelby.org
SUMMARY:Youth Group
DESCRIPTION:
URL:https://flcshelby.org/event/youth-group-28/2025-11-16/
END:VEVENT
BEGIN:VEVENT
DTSTART;TZID=UTC:20251117T120000
DTEND;TZID=UTC:20251117T130000
DTSTAMP:20260426T032922
CREATED:20251106T164611Z
LAST-MODIFIED:20251106T164611Z
UID:9689-1763380800-1763384400@flcshelby.org
SUMMARY:Meet Me on Monday
DESCRIPTION:The Varsity Club in Willard
URL:https://flcshelby.org/event/meet-me-on-monday-9/
END:VEVENT
BEGIN:VEVENT
DTSTART;TZID=UTC:20251119T090000
DTEND;TZID=UTC:20251119T113000
DTSTAMP:20260426T032922
CREATED:20251106T165150Z
LAST-MODIFIED:20251106T165150Z
UID:9708-1763542800-1763551800@flcshelby.org
SUMMARY:Food Pantry
DESCRIPTION:
URL:https://flcshelby.org/event/food-pantry-46/2025-11-19/
END:VEVENT
BEGIN:VEVENT
DTSTART;TZID=UTC:20251119T180000
DTEND;TZID=UTC:20251119T200000
DTSTAMP:20260426T032922
CREATED:20251106T165249Z
LAST-MODIFIED:20251106T165249Z
UID:9714-1763575200-1763582400@flcshelby.org
SUMMARY:Music Rehearsals
DESCRIPTION:Choir 6pm\nBells 7pm
URL:https://flcshelby.org/event/music-rehearsals/2025-11-19/
END:VEVENT
BEGIN:VEVENT
DTSTART;TZID=UTC:20251123T084500
DTEND;TZID=UTC:20251123T093000
DTSTAMP:20260426T032922
CREATED:20251013T174053Z
LAST-MODIFIED:20251013T174053Z
UID:9606-1763887500-1763890200@flcshelby.org
SUMMARY:Adult Table Talk Sunday School
DESCRIPTION:
URL:https://flcshelby.org/event/adult-table-talk-sunday-school-2/2025-11-23/
END:VEVENT
BEGIN:VEVENT
DTSTART;TZID=UTC:20251123T100000
DTEND;TZID=UTC:20251123T110000
DTSTAMP:20260426T032922
CREATED:20251013T174231Z
LAST-MODIFIED:20251013T174231Z
UID:9621-1763892000-1763895600@flcshelby.org
SUMMARY:Worship Service
DESCRIPTION:
URL:https://flcshelby.org/event/worship-service-6/2025-11-23/
END:VEVENT
BEGIN:VEVENT
DTSTART;TZID=UTC:20251123T110000
DTEND;TZID=UTC:20251123T120000
DTSTAMP:20260426T032922
CREATED:20251106T164714Z
LAST-MODIFIED:20251106T164714Z
UID:9691-1763895600-1763899200@flcshelby.org
SUMMARY:Hanging of the Greens
DESCRIPTION:
URL:https://flcshelby.org/event/hanging-of-the-greens/
END:VEVENT
BEGIN:VEVENT
DTSTART;TZID=UTC:20251123T110000
DTEND;TZID=UTC:20251123T120000
DTSTAMP:20260426T032922
CREATED:20251106T164906Z
LAST-MODIFIED:20251106T164906Z
UID:9700-1763895600-1763899200@flcshelby.org
SUMMARY:Confirmation Class
DESCRIPTION:
URL:https://flcshelby.org/event/confirmation-class-6/2025-11-23/
END:VEVENT
BEGIN:VEVENT
DTSTART;TZID=UTC:20251123T180000
DTEND;TZID=UTC:20251123T193000
DTSTAMP:20260426T032922
CREATED:20251106T164806Z
LAST-MODIFIED:20251106T164806Z
UID:9696-1763920800-1763926200@flcshelby.org
SUMMARY:Youth Group
DESCRIPTION:
URL:https://flcshelby.org/event/youth-group-28/2025-11-23/
END:VEVENT
BEGIN:VEVENT
DTSTART;TZID=UTC:20251126T090000
DTEND;TZID=UTC:20251126T113000
DTSTAMP:20260426T032922
CREATED:20251106T165150Z
LAST-MODIFIED:20251106T165150Z
UID:9709-1764147600-1764156600@flcshelby.org
SUMMARY:Food Pantry
DESCRIPTION:
URL:https://flcshelby.org/event/food-pantry-46/2025-11-26/
END:VEVENT
BEGIN:VEVENT
DTSTART;TZID=UTC:20251126T180000
DTEND;TZID=UTC:20251126T200000
DTSTAMP:20260426T032922
CREATED:20251106T165249Z
LAST-MODIFIED:20251106T165249Z
UID:9715-1764180000-1764187200@flcshelby.org
SUMMARY:Music Rehearsals
DESCRIPTION:Choir 6pm\nBells 7pm
URL:https://flcshelby.org/event/music-rehearsals/2025-11-26/
END:VEVENT
END:VCALENDAR