BEGIN:VCALENDAR
VERSION:2.0
PRODID:-//First Lutheran Church Shelby - ECPv6.15.20//NONSGML v1.0//EN
CALSCALE:GREGORIAN
METHOD:PUBLISH
X-WR-CALNAME:First Lutheran Church Shelby
X-ORIGINAL-URL:https://flcshelby.org
X-WR-CALDESC:Events for First Lutheran Church Shelby
REFRESH-INTERVAL;VALUE=DURATION:PT1H
X-Robots-Tag:noindex
X-PUBLISHED-TTL:PT1H
BEGIN:VTIMEZONE
TZID:UTC
BEGIN:STANDARD
TZOFFSETFROM:+0000
TZOFFSETTO:+0000
TZNAME:UTC
DTSTART:20250101T000000
END:STANDARD
END:VTIMEZONE
BEGIN:VEVENT
DTSTART;TZID=UTC:20260412T084500
DTEND;TZID=UTC:20260412T094500
DTSTAMP:20260425T134332
CREATED:20260420T181642Z
LAST-MODIFIED:20260420T181642Z
UID:10075-1775983500-1775987100@flcshelby.org
SUMMARY:Adult Table Talk
DESCRIPTION:
URL:https://flcshelby.org/event/adult-table-talk-5/2026-04-12/
END:VEVENT
BEGIN:VEVENT
DTSTART;TZID=UTC:20260412T100000
DTEND;TZID=UTC:20260412T110000
DTSTAMP:20260425T134332
CREATED:20260420T181749Z
LAST-MODIFIED:20260420T181749Z
UID:10079-1775988000-1775991600@flcshelby.org
SUMMARY:Worship
DESCRIPTION:
URL:https://flcshelby.org/event/worship-35/2026-04-12/
END:VEVENT
BEGIN:VEVENT
DTSTART;TZID=UTC:20260412T110000
DTEND;TZID=UTC:20260412T120000
DTSTAMP:20260425T134332
CREATED:20260420T181905Z
LAST-MODIFIED:20260420T181905Z
UID:10083-1775991600-1775995200@flcshelby.org
SUMMARY:Confirmation Class
DESCRIPTION:
URL:https://flcshelby.org/event/confirmation-class-9/2026-04-12/
END:VEVENT
BEGIN:VEVENT
DTSTART;TZID=UTC:20260412T180000
DTEND;TZID=UTC:20260412T193000
DTSTAMP:20260425T134332
CREATED:20260420T182018Z
LAST-MODIFIED:20260420T182018Z
UID:10086-1776016800-1776022200@flcshelby.org
SUMMARY:Youth Group
DESCRIPTION:
URL:https://flcshelby.org/event/youth-group-34/2026-04-12/
END:VEVENT
BEGIN:VEVENT
DTSTART;TZID=UTC:20260413T130000
DTEND;TZID=UTC:20260413T140000
DTSTAMP:20260425T134332
CREATED:20260420T182239Z
LAST-MODIFIED:20260420T182239Z
UID:10093-1776085200-1776088800@flcshelby.org
SUMMARY:ABC Finance
DESCRIPTION:
URL:https://flcshelby.org/event/abc-finance-3/
END:VEVENT
BEGIN:VEVENT
DTSTART;TZID=UTC:20260414T110000
DTEND;TZID=UTC:20260414T120000
DTSTAMP:20260425T134332
CREATED:20260420T182725Z
LAST-MODIFIED:20260420T182725Z
UID:10102-1776164400-1776168000@flcshelby.org
SUMMARY:Church Finance
DESCRIPTION:
URL:https://flcshelby.org/event/church-finance-2/
END:VEVENT
BEGIN:VEVENT
DTSTART;TZID=UTC:20260414T190000
DTEND;TZID=UTC:20260414T200000
DTSTAMP:20260425T134332
CREATED:20260420T182832Z
LAST-MODIFIED:20260420T182832Z
UID:10104-1776193200-1776196800@flcshelby.org
SUMMARY:Church Council
DESCRIPTION:
URL:https://flcshelby.org/event/church-council-26/
END:VEVENT
BEGIN:VEVENT
DTSTART;TZID=UTC:20260414T200000
DTEND;TZID=UTC:20260414T210000
DTSTAMP:20260425T134332
CREATED:20260420T182940Z
LAST-MODIFIED:20260420T182940Z
UID:10106-1776196800-1776200400@flcshelby.org
SUMMARY:Outreach Committee
DESCRIPTION:
URL:https://flcshelby.org/event/outreach-committee-4/
END:VEVENT
BEGIN:VEVENT
DTSTART;TZID=UTC:20260415T090000
DTEND;TZID=UTC:20260415T113000
DTSTAMP:20260425T134332
CREATED:20260420T183327Z
LAST-MODIFIED:20260420T183327Z
UID:10114-1776243600-1776252600@flcshelby.org
SUMMARY:Food Pantry
DESCRIPTION:
URL:https://flcshelby.org/event/food-pantry-51/2026-04-15/
END:VEVENT
BEGIN:VEVENT
DTSTART;TZID=UTC:20260415T180000
DTEND;TZID=UTC:20260415T190000
DTSTAMP:20260425T134332
CREATED:20260420T183459Z
LAST-MODIFIED:20260420T183459Z
UID:10118-1776276000-1776279600@flcshelby.org
SUMMARY:Choir Rehearsal
DESCRIPTION:
URL:https://flcshelby.org/event/choir-rehearsal-10/2026-04-15/
END:VEVENT
BEGIN:VEVENT
DTSTART;TZID=UTC:20260415T190000
DTEND;TZID=UTC:20260415T200000
DTSTAMP:20260425T134332
CREATED:20260420T183614Z
LAST-MODIFIED:20260420T183614Z
UID:10122-1776279600-1776283200@flcshelby.org
SUMMARY:Bell Rehearsal
DESCRIPTION:
URL:https://flcshelby.org/event/bell-rehearsal-8/2026-04-15/
END:VEVENT
BEGIN:VEVENT
DTSTART;TZID=UTC:20260416T160000
DTEND;TZID=UTC:20260416T170000
DTSTAMP:20260425T134332
CREATED:20260420T181514Z
LAST-MODIFIED:20260420T181514Z
UID:10071-1776355200-1776358800@flcshelby.org
SUMMARY:Thursday Bible Study
DESCRIPTION:
URL:https://flcshelby.org/event/thursday-bible-study/2026-04-16/
END:VEVENT
BEGIN:VEVENT
DTSTART;TZID=UTC:20260418T080000
DTEND;TZID=UTC:20260418T100000
DTSTAMP:20260425T134332
CREATED:20260420T183925Z
LAST-MODIFIED:20260420T183925Z
UID:10128-1776499200-1776506400@flcshelby.org
SUMMARY:Community Breakfast
DESCRIPTION:
URL:https://flcshelby.org/event/community-breakfast-36/
END:VEVENT
BEGIN:VEVENT
DTSTART;TZID=UTC:20260419T084500
DTEND;TZID=UTC:20260419T094500
DTSTAMP:20260425T134332
CREATED:20260420T181642Z
LAST-MODIFIED:20260420T181642Z
UID:10076-1776588300-1776591900@flcshelby.org
SUMMARY:Adult Table Talk
DESCRIPTION:
URL:https://flcshelby.org/event/adult-table-talk-5/2026-04-19/
END:VEVENT
BEGIN:VEVENT
DTSTART;TZID=UTC:20260419T100000
DTEND;TZID=UTC:20260419T110000
DTSTAMP:20260425T134332
CREATED:20260420T181749Z
LAST-MODIFIED:20260420T181749Z
UID:10080-1776592800-1776596400@flcshelby.org
SUMMARY:Worship
DESCRIPTION:
URL:https://flcshelby.org/event/worship-35/2026-04-19/
END:VEVENT
BEGIN:VEVENT
DTSTART;TZID=UTC:20260419T180000
DTEND;TZID=UTC:20260419T193000
DTSTAMP:20260425T134332
CREATED:20260420T182018Z
LAST-MODIFIED:20260420T182018Z
UID:10087-1776621600-1776627000@flcshelby.org
SUMMARY:Youth Group
DESCRIPTION:
URL:https://flcshelby.org/event/youth-group-34/2026-04-19/
END:VEVENT
BEGIN:VEVENT
DTSTART;TZID=UTC:20260420T120000
DTEND;TZID=UTC:20260420T130000
DTSTAMP:20260425T134332
CREATED:20260420T182131Z
LAST-MODIFIED:20260420T182131Z
UID:10090-1776686400-1776690000@flcshelby.org
SUMMARY:Meet Me on Monday
DESCRIPTION:
URL:https://flcshelby.org/event/meet-me-on-monday-11/
END:VEVENT
BEGIN:VEVENT
DTSTART;TZID=UTC:20260421T100000
DTEND;TZID=UTC:20260421T120000
DTSTAMP:20260425T134332
CREATED:20260420T183045Z
LAST-MODIFIED:20260420T183045Z
UID:10108-1776765600-1776772800@flcshelby.org
SUMMARY:Mobile Food Pantry
DESCRIPTION:
URL:https://flcshelby.org/event/mobile-food-pantry-18/
END:VEVENT
BEGIN:VEVENT
DTSTART;TZID=UTC:20260422T090000
DTEND;TZID=UTC:20260422T113000
DTSTAMP:20260425T134332
CREATED:20260420T183327Z
LAST-MODIFIED:20260420T183327Z
UID:10115-1776848400-1776857400@flcshelby.org
SUMMARY:Food Pantry
DESCRIPTION:
URL:https://flcshelby.org/event/food-pantry-51/2026-04-22/
END:VEVENT
BEGIN:VEVENT
DTSTART;TZID=UTC:20260422T180000
DTEND;TZID=UTC:20260422T190000
DTSTAMP:20260425T134332
CREATED:20260420T183459Z
LAST-MODIFIED:20260420T183459Z
UID:10119-1776880800-1776884400@flcshelby.org
SUMMARY:Choir Rehearsal
DESCRIPTION:
URL:https://flcshelby.org/event/choir-rehearsal-10/2026-04-22/
END:VEVENT
BEGIN:VEVENT
DTSTART;TZID=UTC:20260422T190000
DTEND;TZID=UTC:20260422T200000
DTSTAMP:20260425T134332
CREATED:20260420T183614Z
LAST-MODIFIED:20260420T183614Z
UID:10123-1776884400-1776888000@flcshelby.org
SUMMARY:Bell Rehearsal
DESCRIPTION:
URL:https://flcshelby.org/event/bell-rehearsal-8/2026-04-22/
END:VEVENT
BEGIN:VEVENT
DTSTART;TZID=UTC:20260423T160000
DTEND;TZID=UTC:20260423T170000
DTSTAMP:20260425T134332
CREATED:20260420T181514Z
LAST-MODIFIED:20260420T181514Z
UID:10072-1776960000-1776963600@flcshelby.org
SUMMARY:Thursday Bible Study
DESCRIPTION:
URL:https://flcshelby.org/event/thursday-bible-study/2026-04-23/
END:VEVENT
BEGIN:VEVENT
DTSTART;TZID=UTC:20260426T084500
DTEND;TZID=UTC:20260426T094500
DTSTAMP:20260425T134332
CREATED:20260420T181642Z
LAST-MODIFIED:20260420T181642Z
UID:10077-1777193100-1777196700@flcshelby.org
SUMMARY:Adult Table Talk
DESCRIPTION:
URL:https://flcshelby.org/event/adult-table-talk-5/2026-04-26/
END:VEVENT
BEGIN:VEVENT
DTSTART;TZID=UTC:20260426T100000
DTEND;TZID=UTC:20260426T110000
DTSTAMP:20260425T134332
CREATED:20260420T181749Z
LAST-MODIFIED:20260420T181749Z
UID:10081-1777197600-1777201200@flcshelby.org
SUMMARY:Worship
DESCRIPTION:
URL:https://flcshelby.org/event/worship-35/2026-04-26/
END:VEVENT
BEGIN:VEVENT
DTSTART;TZID=UTC:20260426T110000
DTEND;TZID=UTC:20260426T120000
DTSTAMP:20260425T134332
CREATED:20260420T181905Z
LAST-MODIFIED:20260420T181905Z
UID:10084-1777201200-1777204800@flcshelby.org
SUMMARY:Confirmation Class
DESCRIPTION:
URL:https://flcshelby.org/event/confirmation-class-9/2026-04-26/
END:VEVENT
BEGIN:VEVENT
DTSTART;TZID=UTC:20260426T180000
DTEND;TZID=UTC:20260426T193000
DTSTAMP:20260425T134332
CREATED:20260420T182018Z
LAST-MODIFIED:20260420T182018Z
UID:10088-1777226400-1777231800@flcshelby.org
SUMMARY:Youth Group
DESCRIPTION:
URL:https://flcshelby.org/event/youth-group-34/2026-04-26/
END:VEVENT
BEGIN:VEVENT
DTSTART;TZID=UTC:20260428T163000
DTEND;TZID=UTC:20260428T180000
DTSTAMP:20260425T134332
CREATED:20260420T183206Z
LAST-MODIFIED:20260420T183206Z
UID:10110-1777393800-1777399200@flcshelby.org
SUMMARY:Community Supper
DESCRIPTION:
URL:https://flcshelby.org/event/community-supper/
END:VEVENT
BEGIN:VEVENT
DTSTART;TZID=UTC:20260429T090000
DTEND;TZID=UTC:20260429T113000
DTSTAMP:20260425T134332
CREATED:20260420T183327Z
LAST-MODIFIED:20260420T183327Z
UID:10116-1777453200-1777462200@flcshelby.org
SUMMARY:Food Pantry
DESCRIPTION:
URL:https://flcshelby.org/event/food-pantry-51/2026-04-29/
END:VEVENT
BEGIN:VEVENT
DTSTART;TZID=UTC:20260429T180000
DTEND;TZID=UTC:20260429T190000
DTSTAMP:20260425T134332
CREATED:20260420T183459Z
LAST-MODIFIED:20260420T183459Z
UID:10120-1777485600-1777489200@flcshelby.org
SUMMARY:Choir Rehearsal
DESCRIPTION:
URL:https://flcshelby.org/event/choir-rehearsal-10/2026-04-29/
END:VEVENT
BEGIN:VEVENT
DTSTART;TZID=UTC:20260429T190000
DTEND;TZID=UTC:20260429T200000
DTSTAMP:20260425T134332
CREATED:20260420T183614Z
LAST-MODIFIED:20260420T183614Z
UID:10124-1777489200-1777492800@flcshelby.org
SUMMARY:Bell Rehearsal
DESCRIPTION:
URL:https://flcshelby.org/event/bell-rehearsal-8/2026-04-29/
END:VEVENT
END:VCALENDAR