BEGIN:VCALENDAR
VERSION:2.0
PRODID:-//First Lutheran Church Shelby - ECPv6.15.20//NONSGML v1.0//EN
CALSCALE:GREGORIAN
METHOD:PUBLISH
X-ORIGINAL-URL:https://flcshelby.org
X-WR-CALDESC:Events for First Lutheran Church Shelby
REFRESH-INTERVAL;VALUE=DURATION:PT1H
X-Robots-Tag:noindex
X-PUBLISHED-TTL:PT1H
BEGIN:VTIMEZONE
TZID:UTC
BEGIN:STANDARD
TZOFFSETFROM:+0000
TZOFFSETTO:+0000
TZNAME:UTC
DTSTART:20240101T000000
END:STANDARD
END:VTIMEZONE
BEGIN:VEVENT
DTSTART;TZID=UTC:20251217T180000
DTEND;TZID=UTC:20251217T190000
DTSTAMP:20260426T031458
CREATED:20251214T155737Z
LAST-MODIFIED:20251214T155737Z
UID:9775-1765994400-1765998000@flcshelby.org
SUMMARY:Choir Rehearsal
DESCRIPTION:
URL:https://flcshelby.org/event/choir-rehearsal-3/2025-12-17/
END:VEVENT
BEGIN:VEVENT
DTSTART;TZID=UTC:20251217T190000
DTEND;TZID=UTC:20251217T200000
DTSTAMP:20260426T031458
CREATED:20251214T160018Z
LAST-MODIFIED:20251214T160018Z
UID:9781-1765998000-1766001600@flcshelby.org
SUMMARY:Bell Rehearsal
DESCRIPTION:
URL:https://flcshelby.org/event/bell-rehearsal-2/2025-12-17/
END:VEVENT
BEGIN:VEVENT
DTSTART;TZID=UTC:20251218T173000
DTEND;TZID=UTC:20251218T183000
DTSTAMP:20260426T031458
CREATED:20251214T160050Z
LAST-MODIFIED:20251214T160050Z
UID:9783-1766079000-1766082600@flcshelby.org
SUMMARY:CHOIR REHEARSAL
DESCRIPTION:
URL:https://flcshelby.org/event/choir-rehearsal-4/
END:VEVENT
BEGIN:VEVENT
DTSTART;TZID=UTC:20251218T183000
DTEND;TZID=UTC:20251218T193000
DTSTAMP:20260426T031458
CREATED:20251214T160258Z
LAST-MODIFIED:20251214T160258Z
UID:9793-1766082600-1766086200@flcshelby.org
SUMMARY:Bible Study
DESCRIPTION:
URL:https://flcshelby.org/event/bible-study/2025-12-18/
END:VEVENT
BEGIN:VEVENT
DTSTART;TZID=UTC:20251220T080000
DTEND;TZID=UTC:20251220T100000
DTSTAMP:20260426T031458
CREATED:20251214T155441Z
LAST-MODIFIED:20251214T155441Z
UID:9769-1766217600-1766224800@flcshelby.org
SUMMARY:Community Breakfast
DESCRIPTION:
URL:https://flcshelby.org/event/community-breakfast-32/
END:VEVENT
BEGIN:VEVENT
DTSTART;TZID=UTC:20251220T080000
DTEND;TZID=UTC:20251220T120000
DTSTAMP:20260426T031458
CREATED:20251214T155509Z
LAST-MODIFIED:20251214T155509Z
UID:9771-1766217600-1766232000@flcshelby.org
SUMMARY:Cookie Walk
DESCRIPTION:
URL:https://flcshelby.org/event/cookie-walk-2/
END:VEVENT
BEGIN:VEVENT
DTSTART;TZID=UTC:20251220T120000
DTEND;TZID=UTC:20251220T130000
DTSTAMP:20260426T031458
CREATED:20251214T160120Z
LAST-MODIFIED:20251214T160120Z
UID:9785-1766232000-1766235600@flcshelby.org
SUMMARY:BELL REHEARSAL
DESCRIPTION:
URL:https://flcshelby.org/event/bell-rehearsal-3/
END:VEVENT
BEGIN:VEVENT
DTSTART;TZID=UTC:20251221T084500
DTEND;TZID=UTC:20251221T093000
DTSTAMP:20260426T031458
CREATED:20251013T174053Z
LAST-MODIFIED:20251013T174053Z
UID:9611-1766306700-1766309400@flcshelby.org
SUMMARY:Adult Table Talk Sunday School
DESCRIPTION:
URL:https://flcshelby.org/event/adult-table-talk-sunday-school-2/2025-12-21/
END:VEVENT
BEGIN:VEVENT
DTSTART;TZID=UTC:20251221T084500
DTEND;TZID=UTC:20251221T093000
DTSTAMP:20260426T031458
CREATED:20251214T154647Z
LAST-MODIFIED:20251214T154647Z
UID:9755-1766306700-1766309400@flcshelby.org
SUMMARY:Table Talk Sunday School
DESCRIPTION:
URL:https://flcshelby.org/event/table-talk-sunday-school-2/2025-12-21/
END:VEVENT
BEGIN:VEVENT
DTSTART;TZID=UTC:20251221T100000
DTEND;TZID=UTC:20251221T110000
DTSTAMP:20260426T031458
CREATED:20251013T174231Z
LAST-MODIFIED:20251013T174231Z
UID:9626-1766311200-1766314800@flcshelby.org
SUMMARY:Worship Service
DESCRIPTION:
URL:https://flcshelby.org/event/worship-service-6/2025-12-21/
END:VEVENT
BEGIN:VEVENT
DTSTART;TZID=UTC:20251221T110000
DTEND;TZID=UTC:20251221T120000
DTSTAMP:20260426T031458
CREATED:20251214T155902Z
LAST-MODIFIED:20251214T155902Z
UID:9777-1766314800-1766318400@flcshelby.org
SUMMARY:Pageant Rehearsal
DESCRIPTION:
URL:https://flcshelby.org/event/pageant-rehearsal-3/
END:VEVENT
BEGIN:VEVENT
DTSTART;TZID=UTC:20251221T180000
DTEND;TZID=UTC:20251221T190000
DTSTAMP:20260426T031458
CREATED:20251214T155151Z
LAST-MODIFIED:20251214T155151Z
UID:9765-1766340000-1766343600@flcshelby.org
SUMMARY:Gloryway Concert
DESCRIPTION:
URL:https://flcshelby.org/event/gloryway-concert/
END:VEVENT
BEGIN:VEVENT
DTSTART;TZID=UTC:20251223T163000
DTEND;TZID=UTC:20251223T183000
DTSTAMP:20260426T031458
CREATED:20251214T155221Z
LAST-MODIFIED:20251214T155221Z
UID:9767-1766507400-1766514600@flcshelby.org
SUMMARY:Community Dinner
DESCRIPTION:
URL:https://flcshelby.org/event/community-dinner-5/
END:VEVENT
BEGIN:VEVENT
DTSTART;TZID=UTC:20251224T190000
DTEND;TZID=UTC:20251224T200000
DTSTAMP:20260426T031458
CREATED:20251214T155118Z
LAST-MODIFIED:20251214T155118Z
UID:9763-1766602800-1766606400@flcshelby.org
SUMMARY:Christmas Eve
DESCRIPTION:
URL:https://flcshelby.org/event/christmas-eve-2/
END:VEVENT
BEGIN:VEVENT
DTSTART;VALUE=DATE:20251228
DTEND;VALUE=DATE:20251229
DTSTAMP:20260426T031458
CREATED:20251214T155027Z
LAST-MODIFIED:20251214T155027Z
UID:9761-1766880000-1766966399@flcshelby.org
SUMMARY:Christmas Pageant
DESCRIPTION:
URL:https://flcshelby.org/event/christmas-pageant-3/
END:VEVENT
BEGIN:VEVENT
DTSTART;TZID=UTC:20251228T084500
DTEND;TZID=UTC:20251228T093000
DTSTAMP:20260426T031458
CREATED:20251013T174053Z
LAST-MODIFIED:20251013T174053Z
UID:9612-1766911500-1766914200@flcshelby.org
SUMMARY:Adult Table Talk Sunday School
DESCRIPTION:
URL:https://flcshelby.org/event/adult-table-talk-sunday-school-2/2025-12-28/
END:VEVENT
BEGIN:VEVENT
DTSTART;TZID=UTC:20251228T084500
DTEND;TZID=UTC:20251228T093000
DTSTAMP:20260426T031458
CREATED:20251214T154647Z
LAST-MODIFIED:20251214T154647Z
UID:9756-1766911500-1766914200@flcshelby.org
SUMMARY:Table Talk Sunday School
DESCRIPTION:
URL:https://flcshelby.org/event/table-talk-sunday-school-2/2025-12-28/
END:VEVENT
BEGIN:VEVENT
DTSTART;TZID=UTC:20251228T100000
DTEND;TZID=UTC:20251228T110000
DTSTAMP:20260426T031458
CREATED:20251013T174231Z
LAST-MODIFIED:20251013T174231Z
UID:9627-1766916000-1766919600@flcshelby.org
SUMMARY:Worship Service
DESCRIPTION:
URL:https://flcshelby.org/event/worship-service-6/2025-12-28/
END:VEVENT
BEGIN:VEVENT
DTSTART;TZID=UTC:20260104T084500
DTEND;TZID=UTC:20260104T093000
DTSTAMP:20260426T031458
CREATED:20260115T144017Z
LAST-MODIFIED:20260115T144017Z
UID:9816-1767516300-1767519000@flcshelby.org
SUMMARY:Table Talk Adult Sunday School
DESCRIPTION:
URL:https://flcshelby.org/event/table-talk-adult-sunday-school-4/2026-01-04/
END:VEVENT
BEGIN:VEVENT
DTSTART;TZID=UTC:20260104T100000
DTEND;TZID=UTC:20260104T110000
DTSTAMP:20260426T031458
CREATED:20260115T144149Z
LAST-MODIFIED:20260115T144149Z
UID:9821-1767520800-1767524400@flcshelby.org
SUMMARY:Worship Service
DESCRIPTION:
URL:https://flcshelby.org/event/worship-service-7/2026-01-04/
END:VEVENT
BEGIN:VEVENT
DTSTART;TZID=UTC:20260104T180000
DTEND;TZID=UTC:20260104T193000
DTSTAMP:20260426T031458
CREATED:20260115T144241Z
LAST-MODIFIED:20260115T144241Z
UID:9826-1767549600-1767555000@flcshelby.org
SUMMARY:Youth Group
DESCRIPTION:
URL:https://flcshelby.org/event/youth-group-31/2026-01-04/
END:VEVENT
BEGIN:VEVENT
DTSTART;TZID=UTC:20260106T110000
DTEND;TZID=UTC:20260106T120000
DTSTAMP:20260426T031458
CREATED:20260115T144417Z
LAST-MODIFIED:20260115T144417Z
UID:9833-1767697200-1767700800@flcshelby.org
SUMMARY:Stewardship Committee
DESCRIPTION:
URL:https://flcshelby.org/event/stewardship-committee-7/
END:VEVENT
BEGIN:VEVENT
DTSTART;TZID=UTC:20260106T190000
DTEND;TZID=UTC:20260106T200000
DTSTAMP:20260426T031458
CREATED:20260115T144447Z
LAST-MODIFIED:20260115T144447Z
UID:9836-1767726000-1767729600@flcshelby.org
SUMMARY:Committees
DESCRIPTION:
URL:https://flcshelby.org/event/committees-14/
END:VEVENT
BEGIN:VEVENT
DTSTART;TZID=UTC:20260107T090000
DTEND;TZID=UTC:20260107T113000
DTSTAMP:20260426T031458
CREATED:20260115T144700Z
LAST-MODIFIED:20260115T144700Z
UID:9844-1767776400-1767785400@flcshelby.org
SUMMARY:Food Pantry
DESCRIPTION:
URL:https://flcshelby.org/event/food-pantry-48/2026-01-07/
END:VEVENT
BEGIN:VEVENT
DTSTART;TZID=UTC:20260107T180000
DTEND;TZID=UTC:20260107T190000
DTSTAMP:20260426T031458
CREATED:20260115T144745Z
LAST-MODIFIED:20260115T144745Z
UID:9849-1767808800-1767812400@flcshelby.org
SUMMARY:Choir Rehearsal
DESCRIPTION:
URL:https://flcshelby.org/event/choir-rehearsal-5/2026-01-07/
END:VEVENT
BEGIN:VEVENT
DTSTART;TZID=UTC:20260107T190000
DTEND;TZID=UTC:20260107T200000
DTSTAMP:20260426T031458
CREATED:20260115T144818Z
LAST-MODIFIED:20260115T144818Z
UID:9854-1767812400-1767816000@flcshelby.org
SUMMARY:Bell Rehearsal
DESCRIPTION:
URL:https://flcshelby.org/event/bell-rehearsal-4/2026-01-07/
END:VEVENT
BEGIN:VEVENT
DTSTART;TZID=UTC:20260108T160000
DTEND;TZID=UTC:20260108T170000
DTSTAMP:20260426T031458
CREATED:20260115T144955Z
LAST-MODIFIED:20260115T144955Z
UID:9861-1767888000-1767891600@flcshelby.org
SUMMARY:Bible Study
DESCRIPTION:
URL:https://flcshelby.org/event/bible-study-2/2026-01-08/
END:VEVENT
BEGIN:VEVENT
DTSTART;TZID=UTC:20260111T084500
DTEND;TZID=UTC:20260111T093000
DTSTAMP:20260426T031458
CREATED:20260115T144017Z
LAST-MODIFIED:20260115T144017Z
UID:9817-1768121100-1768123800@flcshelby.org
SUMMARY:Table Talk Adult Sunday School
DESCRIPTION:
URL:https://flcshelby.org/event/table-talk-adult-sunday-school-4/2026-01-11/
END:VEVENT
BEGIN:VEVENT
DTSTART;TZID=UTC:20260111T100000
DTEND;TZID=UTC:20260111T110000
DTSTAMP:20260426T031458
CREATED:20260115T144149Z
LAST-MODIFIED:20260115T144149Z
UID:9822-1768125600-1768129200@flcshelby.org
SUMMARY:Worship Service
DESCRIPTION:
URL:https://flcshelby.org/event/worship-service-7/2026-01-11/
END:VEVENT
BEGIN:VEVENT
DTSTART;TZID=UTC:20260111T180000
DTEND;TZID=UTC:20260111T193000
DTSTAMP:20260426T031458
CREATED:20260115T144241Z
LAST-MODIFIED:20260115T144241Z
UID:9827-1768154400-1768159800@flcshelby.org
SUMMARY:Youth Group
DESCRIPTION:
URL:https://flcshelby.org/event/youth-group-31/2026-01-11/
END:VEVENT
END:VCALENDAR