BEGIN:VCALENDAR
VERSION:2.0
PRODID:-//First Lutheran Church Shelby - ECPv6.15.20//NONSGML v1.0//EN
CALSCALE:GREGORIAN
METHOD:PUBLISH
X-WR-CALNAME:First Lutheran Church Shelby
X-ORIGINAL-URL:https://flcshelby.org
X-WR-CALDESC:Events for First Lutheran Church Shelby
REFRESH-INTERVAL;VALUE=DURATION:PT1H
X-Robots-Tag:noindex
X-PUBLISHED-TTL:PT1H
BEGIN:VTIMEZONE
TZID:UTC
BEGIN:STANDARD
TZOFFSETFROM:+0000
TZOFFSETTO:+0000
TZNAME:UTC
DTSTART:20250101T000000
END:STANDARD
END:VTIMEZONE
BEGIN:VEVENT
DTSTART;TZID=UTC:20260125T180000
DTEND;TZID=UTC:20260125T193000
DTSTAMP:20260426T012443
CREATED:20260115T144241Z
LAST-MODIFIED:20260115T144241Z
UID:9829-1769364000-1769369400@flcshelby.org
SUMMARY:Youth Group
DESCRIPTION:
URL:https://flcshelby.org/event/youth-group-31/2026-01-25/
END:VEVENT
BEGIN:VEVENT
DTSTART;TZID=UTC:20260125T110000
DTEND;TZID=UTC:20260125T113000
DTSTAMP:20260426T012443
CREATED:20260115T145210Z
LAST-MODIFIED:20260115T145210Z
UID:9871-1769338800-1769340600@flcshelby.org
SUMMARY:Annual Meeting
DESCRIPTION:
URL:https://flcshelby.org/event/annual-meeting-2/
END:VEVENT
BEGIN:VEVENT
DTSTART;TZID=UTC:20260125T100000
DTEND;TZID=UTC:20260125T110000
DTSTAMP:20260426T012443
CREATED:20260115T144149Z
LAST-MODIFIED:20260115T144149Z
UID:9824-1769335200-1769338800@flcshelby.org
SUMMARY:Worship Service
DESCRIPTION:
URL:https://flcshelby.org/event/worship-service-7/2026-01-25/
END:VEVENT
BEGIN:VEVENT
DTSTART;TZID=UTC:20260125T084500
DTEND;TZID=UTC:20260125T093000
DTSTAMP:20260426T012443
CREATED:20260115T144017Z
LAST-MODIFIED:20260115T144017Z
UID:9819-1769330700-1769333400@flcshelby.org
SUMMARY:Table Talk Adult Sunday School
DESCRIPTION:
URL:https://flcshelby.org/event/table-talk-adult-sunday-school-4/2026-01-25/
END:VEVENT
BEGIN:VEVENT
DTSTART;TZID=UTC:20260122T160000
DTEND;TZID=UTC:20260122T170000
DTSTAMP:20260426T012443
CREATED:20260115T144955Z
LAST-MODIFIED:20260115T144955Z
UID:9863-1769097600-1769101200@flcshelby.org
SUMMARY:Bible Study
DESCRIPTION:
URL:https://flcshelby.org/event/bible-study-2/2026-01-22/
END:VEVENT
BEGIN:VEVENT
DTSTART;TZID=UTC:20260121T190000
DTEND;TZID=UTC:20260121T200000
DTSTAMP:20260426T012443
CREATED:20260115T144818Z
LAST-MODIFIED:20260115T144818Z
UID:9856-1769022000-1769025600@flcshelby.org
SUMMARY:Bell Rehearsal
DESCRIPTION:
URL:https://flcshelby.org/event/bell-rehearsal-4/2026-01-21/
END:VEVENT
BEGIN:VEVENT
DTSTART;TZID=UTC:20260121T180000
DTEND;TZID=UTC:20260121T190000
DTSTAMP:20260426T012443
CREATED:20260115T144745Z
LAST-MODIFIED:20260115T144745Z
UID:9851-1769018400-1769022000@flcshelby.org
SUMMARY:Choir Rehearsal
DESCRIPTION:
URL:https://flcshelby.org/event/choir-rehearsal-5/2026-01-21/
END:VEVENT
BEGIN:VEVENT
DTSTART;TZID=UTC:20260121T090000
DTEND;TZID=UTC:20260121T113000
DTSTAMP:20260426T012443
CREATED:20260115T144700Z
LAST-MODIFIED:20260115T144700Z
UID:9846-1768986000-1768995000@flcshelby.org
SUMMARY:Food Pantry
DESCRIPTION:
URL:https://flcshelby.org/event/food-pantry-48/2026-01-21/
END:VEVENT
BEGIN:VEVENT
DTSTART;TZID=UTC:20260118T180000
DTEND;TZID=UTC:20260118T193000
DTSTAMP:20260426T012443
CREATED:20260115T144241Z
LAST-MODIFIED:20260115T144241Z
UID:9828-1768759200-1768764600@flcshelby.org
SUMMARY:Youth Group
DESCRIPTION:
URL:https://flcshelby.org/event/youth-group-31/2026-01-18/
END:VEVENT
BEGIN:VEVENT
DTSTART;TZID=UTC:20260118T110000
DTEND;TZID=UTC:20260118T113000
DTSTAMP:20260426T012443
CREATED:20260115T145125Z
LAST-MODIFIED:20260115T145125Z
UID:9869-1768734000-1768735800@flcshelby.org
SUMMARY:Budget Hearing
DESCRIPTION:
URL:https://flcshelby.org/event/budget-hearing-2/
END:VEVENT
BEGIN:VEVENT
DTSTART;TZID=UTC:20260118T100000
DTEND;TZID=UTC:20260118T110000
DTSTAMP:20260426T012443
CREATED:20260115T144149Z
LAST-MODIFIED:20260115T144149Z
UID:9823-1768730400-1768734000@flcshelby.org
SUMMARY:Worship Service
DESCRIPTION:
URL:https://flcshelby.org/event/worship-service-7/2026-01-18/
END:VEVENT
BEGIN:VEVENT
DTSTART;TZID=UTC:20260118T084500
DTEND;TZID=UTC:20260118T093000
DTSTAMP:20260426T012443
CREATED:20260115T144017Z
LAST-MODIFIED:20260115T144017Z
UID:9818-1768725900-1768728600@flcshelby.org
SUMMARY:Table Talk Adult Sunday School
DESCRIPTION:
URL:https://flcshelby.org/event/table-talk-adult-sunday-school-4/2026-01-18/
END:VEVENT
BEGIN:VEVENT
DTSTART;TZID=UTC:20260117T080000
DTEND;TZID=UTC:20260117T100000
DTSTAMP:20260426T012443
CREATED:20260115T145039Z
LAST-MODIFIED:20260115T145039Z
UID:9867-1768636800-1768644000@flcshelby.org
SUMMARY:Community Breakfast
DESCRIPTION:
URL:https://flcshelby.org/event/community-breakfast-33/
END:VEVENT
BEGIN:VEVENT
DTSTART;TZID=UTC:20260115T160000
DTEND;TZID=UTC:20260115T170000
DTSTAMP:20260426T012443
CREATED:20260115T144955Z
LAST-MODIFIED:20260115T144955Z
UID:9862-1768492800-1768496400@flcshelby.org
SUMMARY:Bible Study
DESCRIPTION:
URL:https://flcshelby.org/event/bible-study-2/2026-01-15/
END:VEVENT
BEGIN:VEVENT
DTSTART;TZID=UTC:20260114T190000
DTEND;TZID=UTC:20260114T200000
DTSTAMP:20260426T012444
CREATED:20260115T144818Z
LAST-MODIFIED:20260115T144818Z
UID:9855-1768417200-1768420800@flcshelby.org
SUMMARY:Bell Rehearsal
DESCRIPTION:
URL:https://flcshelby.org/event/bell-rehearsal-4/2026-01-14/
END:VEVENT
BEGIN:VEVENT
DTSTART;TZID=UTC:20260114T180000
DTEND;TZID=UTC:20260114T190000
DTSTAMP:20260426T012444
CREATED:20260115T144745Z
LAST-MODIFIED:20260115T144745Z
UID:9850-1768413600-1768417200@flcshelby.org
SUMMARY:Choir Rehearsal
DESCRIPTION:
URL:https://flcshelby.org/event/choir-rehearsal-5/2026-01-14/
END:VEVENT
BEGIN:VEVENT
DTSTART;TZID=UTC:20260114T090000
DTEND;TZID=UTC:20260114T120000
DTSTAMP:20260426T012444
CREATED:20260115T144906Z
LAST-MODIFIED:20260115T144906Z
UID:9859-1768381200-1768392000@flcshelby.org
SUMMARY:Quilters
DESCRIPTION:
URL:https://flcshelby.org/event/quilters-10/
END:VEVENT
BEGIN:VEVENT
DTSTART;TZID=UTC:20260114T090000
DTEND;TZID=UTC:20260114T113000
DTSTAMP:20260426T012444
CREATED:20260115T144700Z
LAST-MODIFIED:20260115T144700Z
UID:9845-1768381200-1768390200@flcshelby.org
SUMMARY:Food Pantry
DESCRIPTION:
URL:https://flcshelby.org/event/food-pantry-48/2026-01-14/
END:VEVENT
BEGIN:VEVENT
DTSTART;TZID=UTC:20260113T190000
DTEND;TZID=UTC:20260113T210000
DTSTAMP:20260426T012444
CREATED:20260115T144555Z
LAST-MODIFIED:20260115T144555Z
UID:9840-1768330800-1768338000@flcshelby.org
SUMMARY:Church Council
DESCRIPTION:
URL:https://flcshelby.org/event/church-council-23/
END:VEVENT
BEGIN:VEVENT
DTSTART;TZID=UTC:20260113T110000
DTEND;TZID=UTC:20260113T120000
DTSTAMP:20260426T012444
CREATED:20260115T144523Z
LAST-MODIFIED:20260115T144523Z
UID:9838-1768302000-1768305600@flcshelby.org
SUMMARY:Church Finance Committee
DESCRIPTION:
URL:https://flcshelby.org/event/church-finance-committee-3/
END:VEVENT
BEGIN:VEVENT
DTSTART;TZID=UTC:20260112T100000
DTEND;TZID=UTC:20260112T110000
DTSTAMP:20260426T012444
CREATED:20260115T144333Z
LAST-MODIFIED:20260115T144333Z
UID:9831-1768212000-1768215600@flcshelby.org
SUMMARY:ABC Finance Committee
DESCRIPTION:
URL:https://flcshelby.org/event/abc-finance-committee-3/
END:VEVENT
BEGIN:VEVENT
DTSTART;TZID=UTC:20260111T180000
DTEND;TZID=UTC:20260111T193000
DTSTAMP:20260426T012444
CREATED:20260115T144241Z
LAST-MODIFIED:20260115T144241Z
UID:9827-1768154400-1768159800@flcshelby.org
SUMMARY:Youth Group
DESCRIPTION:
URL:https://flcshelby.org/event/youth-group-31/2026-01-11/
END:VEVENT
BEGIN:VEVENT
DTSTART;TZID=UTC:20260111T100000
DTEND;TZID=UTC:20260111T110000
DTSTAMP:20260426T012444
CREATED:20260115T144149Z
LAST-MODIFIED:20260115T144149Z
UID:9822-1768125600-1768129200@flcshelby.org
SUMMARY:Worship Service
DESCRIPTION:
URL:https://flcshelby.org/event/worship-service-7/2026-01-11/
END:VEVENT
BEGIN:VEVENT
DTSTART;TZID=UTC:20260111T084500
DTEND;TZID=UTC:20260111T093000
DTSTAMP:20260426T012444
CREATED:20260115T144017Z
LAST-MODIFIED:20260115T144017Z
UID:9817-1768121100-1768123800@flcshelby.org
SUMMARY:Table Talk Adult Sunday School
DESCRIPTION:
URL:https://flcshelby.org/event/table-talk-adult-sunday-school-4/2026-01-11/
END:VEVENT
BEGIN:VEVENT
DTSTART;TZID=UTC:20260108T160000
DTEND;TZID=UTC:20260108T170000
DTSTAMP:20260426T012444
CREATED:20260115T144955Z
LAST-MODIFIED:20260115T144955Z
UID:9861-1767888000-1767891600@flcshelby.org
SUMMARY:Bible Study
DESCRIPTION:
URL:https://flcshelby.org/event/bible-study-2/2026-01-08/
END:VEVENT
BEGIN:VEVENT
DTSTART;TZID=UTC:20260107T190000
DTEND;TZID=UTC:20260107T200000
DTSTAMP:20260426T012444
CREATED:20260115T144818Z
LAST-MODIFIED:20260115T144818Z
UID:9854-1767812400-1767816000@flcshelby.org
SUMMARY:Bell Rehearsal
DESCRIPTION:
URL:https://flcshelby.org/event/bell-rehearsal-4/2026-01-07/
END:VEVENT
BEGIN:VEVENT
DTSTART;TZID=UTC:20260107T180000
DTEND;TZID=UTC:20260107T190000
DTSTAMP:20260426T012444
CREATED:20260115T144745Z
LAST-MODIFIED:20260115T144745Z
UID:9849-1767808800-1767812400@flcshelby.org
SUMMARY:Choir Rehearsal
DESCRIPTION:
URL:https://flcshelby.org/event/choir-rehearsal-5/2026-01-07/
END:VEVENT
BEGIN:VEVENT
DTSTART;TZID=UTC:20260107T090000
DTEND;TZID=UTC:20260107T113000
DTSTAMP:20260426T012444
CREATED:20260115T144700Z
LAST-MODIFIED:20260115T144700Z
UID:9844-1767776400-1767785400@flcshelby.org
SUMMARY:Food Pantry
DESCRIPTION:
URL:https://flcshelby.org/event/food-pantry-48/2026-01-07/
END:VEVENT
BEGIN:VEVENT
DTSTART;TZID=UTC:20260106T190000
DTEND;TZID=UTC:20260106T200000
DTSTAMP:20260426T012444
CREATED:20260115T144447Z
LAST-MODIFIED:20260115T144447Z
UID:9836-1767726000-1767729600@flcshelby.org
SUMMARY:Committees
DESCRIPTION:
URL:https://flcshelby.org/event/committees-14/
END:VEVENT
BEGIN:VEVENT
DTSTART;TZID=UTC:20260106T110000
DTEND;TZID=UTC:20260106T120000
DTSTAMP:20260426T012444
CREATED:20260115T144417Z
LAST-MODIFIED:20260115T144417Z
UID:9833-1767697200-1767700800@flcshelby.org
SUMMARY:Stewardship Committee
DESCRIPTION:
URL:https://flcshelby.org/event/stewardship-committee-7/
END:VEVENT
END:VCALENDAR