BEGIN:VCALENDAR
VERSION:2.0
PRODID:-//First Lutheran Church Shelby - ECPv6.15.20//NONSGML v1.0//EN
CALSCALE:GREGORIAN
METHOD:PUBLISH
X-ORIGINAL-URL:https://flcshelby.org
X-WR-CALDESC:Events for First Lutheran Church Shelby
REFRESH-INTERVAL;VALUE=DURATION:PT1H
X-Robots-Tag:noindex
X-PUBLISHED-TTL:PT1H
BEGIN:VTIMEZONE
TZID:UTC
BEGIN:STANDARD
TZOFFSETFROM:+0000
TZOFFSETTO:+0000
TZNAME:UTC
DTSTART:20250101T000000
END:STANDARD
END:VTIMEZONE
BEGIN:VEVENT
DTSTART;TZID=UTC:20260201T084500
DTEND;TZID=UTC:20260201T093000
DTSTAMP:20260425T131727
CREATED:20260213T034748Z
LAST-MODIFIED:20260213T034824Z
UID:9893-1769935500-1769938200@flcshelby.org
SUMMARY:Table Talk Adult Sunday School
DESCRIPTION:
URL:https://flcshelby.org/event/table-talk-adult-sunday-school-5/2026-02-01/
END:VEVENT
BEGIN:VEVENT
DTSTART;TZID=UTC:20260201T100000
DTEND;TZID=UTC:20260201T110000
DTSTAMP:20260425T131727
CREATED:20260213T034856Z
LAST-MODIFIED:20260213T034856Z
UID:9898-1769940000-1769943600@flcshelby.org
SUMMARY:Worship
DESCRIPTION:
URL:https://flcshelby.org/event/worship-33/2026-02-01/
END:VEVENT
BEGIN:VEVENT
DTSTART;TZID=UTC:20260201T180000
DTEND;TZID=UTC:20260201T193000
DTSTAMP:20260425T131727
CREATED:20260213T034948Z
LAST-MODIFIED:20260213T035005Z
UID:9903-1769968800-1769974200@flcshelby.org
SUMMARY:Youth Group
DESCRIPTION:
URL:https://flcshelby.org/event/youth-group-32/2026-02-01/
END:VEVENT
BEGIN:VEVENT
DTSTART;TZID=UTC:20260203T110000
DTEND;TZID=UTC:20260203T120000
DTSTAMP:20260425T131727
CREATED:20260213T040100Z
LAST-MODIFIED:20260213T040100Z
UID:9948-1770116400-1770120000@flcshelby.org
SUMMARY:Stewardship Committee
DESCRIPTION:
URL:https://flcshelby.org/event/stewardship-committee-8/
END:VEVENT
BEGIN:VEVENT
DTSTART;TZID=UTC:20260203T190000
DTEND;TZID=UTC:20260203T200000
DTSTAMP:20260425T131727
CREATED:20260213T040123Z
LAST-MODIFIED:20260213T040123Z
UID:9950-1770145200-1770148800@flcshelby.org
SUMMARY:Committees
DESCRIPTION:
URL:https://flcshelby.org/event/committees-15/
END:VEVENT
BEGIN:VEVENT
DTSTART;TZID=UTC:20260204T090000
DTEND;TZID=UTC:20260204T113000
DTSTAMP:20260425T131727
CREATED:20260213T035334Z
LAST-MODIFIED:20260213T035334Z
UID:9920-1770195600-1770204600@flcshelby.org
SUMMARY:Food Pantry
DESCRIPTION:
URL:https://flcshelby.org/event/food-pantry-49/2026-02-04/
END:VEVENT
BEGIN:VEVENT
DTSTART;TZID=UTC:20260204T180000
DTEND;TZID=UTC:20260204T190000
DTSTAMP:20260425T131727
CREATED:20260213T035442Z
LAST-MODIFIED:20260213T035442Z
UID:9927-1770228000-1770231600@flcshelby.org
SUMMARY:Choir Rehearsal
DESCRIPTION:
URL:https://flcshelby.org/event/choir-rehearsal-6/2026-02-04/
END:VEVENT
BEGIN:VEVENT
DTSTART;TZID=UTC:20260204T190000
DTEND;TZID=UTC:20260204T200000
DTSTAMP:20260425T131727
CREATED:20260213T035601Z
LAST-MODIFIED:20260213T035601Z
UID:9934-1770231600-1770235200@flcshelby.org
SUMMARY:Bell Rehearsal
DESCRIPTION:
URL:https://flcshelby.org/event/bell-rehearsal-5/2026-02-04/
END:VEVENT
BEGIN:VEVENT
DTSTART;TZID=UTC:20260205T160000
DTEND;TZID=UTC:20260205T170000
DTSTAMP:20260425T131727
CREATED:20260213T035842Z
LAST-MODIFIED:20260213T035842Z
UID:9941-1770307200-1770310800@flcshelby.org
SUMMARY:Bible Study
DESCRIPTION:
URL:https://flcshelby.org/event/bible-study-3/2026-02-05/
END:VEVENT
BEGIN:VEVENT
DTSTART;TZID=UTC:20260208T084500
DTEND;TZID=UTC:20260208T093000
DTSTAMP:20260425T131727
CREATED:20260213T034748Z
LAST-MODIFIED:20260213T034748Z
UID:9895-1770540300-1770543000@flcshelby.org
SUMMARY:Table Talk Adult Sunday School
DESCRIPTION:
URL:https://flcshelby.org/event/table-talk-adult-sunday-school-5/2026-02-08/
END:VEVENT
BEGIN:VEVENT
DTSTART;TZID=UTC:20260208T100000
DTEND;TZID=UTC:20260208T110000
DTSTAMP:20260425T131727
CREATED:20260213T034856Z
LAST-MODIFIED:20260213T034856Z
UID:9899-1770544800-1770548400@flcshelby.org
SUMMARY:Worship
DESCRIPTION:
URL:https://flcshelby.org/event/worship-33/2026-02-08/
END:VEVENT
BEGIN:VEVENT
DTSTART;TZID=UTC:20260208T180000
DTEND;TZID=UTC:20260208T193000
DTSTAMP:20260425T131727
CREATED:20260213T034948Z
LAST-MODIFIED:20260213T035005Z
UID:9904-1770573600-1770579000@flcshelby.org
SUMMARY:Youth Group
DESCRIPTION:
URL:https://flcshelby.org/event/youth-group-32/2026-02-08/
END:VEVENT
BEGIN:VEVENT
DTSTART;TZID=UTC:20260209T100000
DTEND;TZID=UTC:20260209T110000
DTSTAMP:20260425T131727
CREATED:20260213T035129Z
LAST-MODIFIED:20260213T035129Z
UID:9912-1770631200-1770634800@flcshelby.org
SUMMARY:ABC Committee
DESCRIPTION:
URL:https://flcshelby.org/event/abc-committee-6/
END:VEVENT
BEGIN:VEVENT
DTSTART;TZID=UTC:20260210T190000
DTEND;TZID=UTC:20260210T200000
DTSTAMP:20260425T131727
CREATED:20260213T040031Z
LAST-MODIFIED:20260213T040031Z
UID:9946-1770750000-1770753600@flcshelby.org
SUMMARY:Church Council
DESCRIPTION:
URL:https://flcshelby.org/event/church-council-24/
END:VEVENT
BEGIN:VEVENT
DTSTART;TZID=UTC:20260211T090000
DTEND;TZID=UTC:20260211T113000
DTSTAMP:20260425T131727
CREATED:20260213T035334Z
LAST-MODIFIED:20260213T035334Z
UID:9921-1770800400-1770809400@flcshelby.org
SUMMARY:Food Pantry
DESCRIPTION:
URL:https://flcshelby.org/event/food-pantry-49/2026-02-11/
END:VEVENT
BEGIN:VEVENT
DTSTART;TZID=UTC:20260211T090000
DTEND;TZID=UTC:20260211T120000
DTSTAMP:20260425T131727
CREATED:20260213T035411Z
LAST-MODIFIED:20260213T035411Z
UID:9925-1770800400-1770811200@flcshelby.org
SUMMARY:Willing Workers/Quilters
DESCRIPTION:
URL:https://flcshelby.org/event/willing-workers-quilters-5/
END:VEVENT
BEGIN:VEVENT
DTSTART;TZID=UTC:20260211T180000
DTEND;TZID=UTC:20260211T190000
DTSTAMP:20260425T131727
CREATED:20260213T035442Z
LAST-MODIFIED:20260213T035442Z
UID:9928-1770832800-1770836400@flcshelby.org
SUMMARY:Choir Rehearsal
DESCRIPTION:
URL:https://flcshelby.org/event/choir-rehearsal-6/2026-02-11/
END:VEVENT
BEGIN:VEVENT
DTSTART;TZID=UTC:20260211T190000
DTEND;TZID=UTC:20260211T200000
DTSTAMP:20260425T131727
CREATED:20260213T035601Z
LAST-MODIFIED:20260213T035601Z
UID:9935-1770836400-1770840000@flcshelby.org
SUMMARY:Bell Rehearsal
DESCRIPTION:
URL:https://flcshelby.org/event/bell-rehearsal-5/2026-02-11/
END:VEVENT
BEGIN:VEVENT
DTSTART;TZID=UTC:20260212T160000
DTEND;TZID=UTC:20260212T170000
DTSTAMP:20260425T131727
CREATED:20260213T035842Z
LAST-MODIFIED:20260213T035842Z
UID:9942-1770912000-1770915600@flcshelby.org
SUMMARY:Bible Study
DESCRIPTION:
URL:https://flcshelby.org/event/bible-study-3/2026-02-12/
END:VEVENT
BEGIN:VEVENT
DTSTART;TZID=UTC:20260214T100000
DTEND;TZID=UTC:20260214T110000
DTSTAMP:20260425T131727
CREATED:20260213T035722Z
LAST-MODIFIED:20260213T035722Z
UID:9939-1771063200-1771066800@flcshelby.org
SUMMARY:Worship Team Rehearsal
DESCRIPTION:
URL:https://flcshelby.org/event/worship-team-rehearsal-8/
END:VEVENT
BEGIN:VEVENT
DTSTART;TZID=UTC:20260214T110000
DTEND;TZID=UTC:20260214T120000
DTSTAMP:20260425T131727
CREATED:20260213T035950Z
LAST-MODIFIED:20260213T035950Z
UID:9944-1771066800-1771070400@flcshelby.org
SUMMARY:Youth Group @ Snow Trails
DESCRIPTION:
URL:https://flcshelby.org/event/youth-group-snow-trails/
END:VEVENT
BEGIN:VEVENT
DTSTART;TZID=UTC:20260215T084500
DTEND;TZID=UTC:20260215T093000
DTSTAMP:20260425T131727
CREATED:20260213T034748Z
LAST-MODIFIED:20260213T034748Z
UID:9896-1771145100-1771147800@flcshelby.org
SUMMARY:Table Talk Adult Sunday School
DESCRIPTION:
URL:https://flcshelby.org/event/table-talk-adult-sunday-school-5/2026-02-15/
END:VEVENT
BEGIN:VEVENT
DTSTART;TZID=UTC:20260215T100000
DTEND;TZID=UTC:20260215T110000
DTSTAMP:20260425T131727
CREATED:20260213T034856Z
LAST-MODIFIED:20260213T034856Z
UID:9900-1771149600-1771153200@flcshelby.org
SUMMARY:Worship
DESCRIPTION:
URL:https://flcshelby.org/event/worship-33/2026-02-15/
END:VEVENT
BEGIN:VEVENT
DTSTART;TZID=UTC:20260215T110000
DTEND;TZID=UTC:20260215T120000
DTSTAMP:20260425T131727
CREATED:20260213T035048Z
LAST-MODIFIED:20260213T035048Z
UID:9910-1771153200-1771156800@flcshelby.org
SUMMARY:Confirmation Class
DESCRIPTION:
URL:https://flcshelby.org/event/confirmation-class-7/
END:VEVENT
BEGIN:VEVENT
DTSTART;TZID=UTC:20260215T180000
DTEND;TZID=UTC:20260215T190000
DTSTAMP:20260425T131727
CREATED:20260115T145318Z
LAST-MODIFIED:20260115T145318Z
UID:9873-1771178400-1771182000@flcshelby.org
SUMMARY:KINGSMEN QUARTET CONCERT
DESCRIPTION:
URL:https://flcshelby.org/event/kingsmen-quartet-concert-2/
END:VEVENT
BEGIN:VEVENT
DTSTART;TZID=UTC:20260216T120000
DTEND;TZID=UTC:20260216T130000
DTSTAMP:20260425T131727
CREATED:20260213T035212Z
LAST-MODIFIED:20260213T035212Z
UID:9914-1771243200-1771246800@flcshelby.org
SUMMARY:Meet Me On Monday
DESCRIPTION:
URL:https://flcshelby.org/event/meet-me-on-monday-10/
END:VEVENT
BEGIN:VEVENT
DTSTART;TZID=UTC:20260218T090000
DTEND;TZID=UTC:20260218T113000
DTSTAMP:20260425T131727
CREATED:20260213T035334Z
LAST-MODIFIED:20260213T035334Z
UID:9922-1771405200-1771414200@flcshelby.org
SUMMARY:Food Pantry
DESCRIPTION:
URL:https://flcshelby.org/event/food-pantry-49/2026-02-18/
END:VEVENT
BEGIN:VEVENT
DTSTART;TZID=UTC:20260218T120000
DTEND;TZID=UTC:20260218T130000
DTSTAMP:20260425T131727
CREATED:20260213T034643Z
LAST-MODIFIED:20260213T034643Z
UID:9889-1771416000-1771419600@flcshelby.org
SUMMARY:Ash Wed Service 12pm
DESCRIPTION:
URL:https://flcshelby.org/event/ash-wed-service-12pm-2/
END:VEVENT
BEGIN:VEVENT
DTSTART;TZID=UTC:20260218T173000
DTEND;TZID=UTC:20260218T183000
DTSTAMP:20260425T131727
CREATED:20260213T035507Z
LAST-MODIFIED:20260213T035507Z
UID:9930-1771435800-1771439400@flcshelby.org
SUMMARY:Choir Rehearsal
DESCRIPTION:
URL:https://flcshelby.org/event/choir-rehearsal-7/
END:VEVENT
BEGIN:VEVENT
DTSTART;TZID=UTC:20260218T190000
DTEND;TZID=UTC:20260218T200000
DTSTAMP:20260425T131727
CREATED:20260213T034713Z
LAST-MODIFIED:20260213T034713Z
UID:9891-1771441200-1771444800@flcshelby.org
SUMMARY:Ash Wed Service 7pm
DESCRIPTION:
URL:https://flcshelby.org/event/ash-wed-service-7pm-2/
END:VEVENT
END:VCALENDAR